BEGIN:VCALENDAR
VERSION:2.0
PRODID:-//Leman Academy of Excellence - ECPv6.15.20//NONSGML v1.0//EN
CALSCALE:GREGORIAN
METHOD:PUBLISH
X-WR-CALNAME:Leman Academy of Excellence
X-ORIGINAL-URL:https://lemanacademy.com
X-WR-CALDESC:Events for Leman Academy of Excellence
REFRESH-INTERVAL;VALUE=DURATION:PT1H
X-Robots-Tag:noindex
X-PUBLISHED-TTL:PT1H
BEGIN:VTIMEZONE
TZID:America/Phoenix
BEGIN:STANDARD
TZOFFSETFROM:-0700
TZOFFSETTO:-0700
TZNAME:MST
DTSTART:20230101T000000
END:STANDARD
END:VTIMEZONE
BEGIN:VEVENT
DTSTART;TZID=America/Phoenix:20240511T180000
DTEND;TZID=America/Phoenix:20240511T210000
DTSTAMP:20260421T135515
CREATED:20231108T123335Z
LAST-MODIFIED:20241023T221751Z
UID:9560-1715450400-1715461200@lemanacademy.com
SUMMARY:8th grade Etiquette Dance
DESCRIPTION:
URL:https://lemanacademy.com/event/8th-grade-etiquette-dance/
CATEGORIES:Oro Valley (K-8)
END:VEVENT
END:VCALENDAR