BEGIN:VCALENDAR
VERSION:2.0
PRODID:-//Leman Academy of Excellence - ECPv6.15.20//NONSGML v1.0//EN
CALSCALE:GREGORIAN
METHOD:PUBLISH
X-WR-CALNAME:Leman Academy of Excellence
X-ORIGINAL-URL:https://lemanacademy.com
X-WR-CALDESC:Events for Leman Academy of Excellence
REFRESH-INTERVAL;VALUE=DURATION:PT1H
X-Robots-Tag:noindex
X-PUBLISHED-TTL:PT1H
BEGIN:VTIMEZONE
TZID:America/Phoenix
BEGIN:STANDARD
TZOFFSETFROM:-0700
TZOFFSETTO:-0700
TZNAME:MST
DTSTART:20250101T000000
END:STANDARD
END:VTIMEZONE
BEGIN:VTIMEZONE
TZID:America/Denver
BEGIN:DAYLIGHT
TZOFFSETFROM:-0700
TZOFFSETTO:-0600
TZNAME:MDT
DTSTART:20250309T090000
END:DAYLIGHT
BEGIN:STANDARD
TZOFFSETFROM:-0600
TZOFFSETTO:-0700
TZNAME:MST
DTSTART:20251102T080000
END:STANDARD
BEGIN:DAYLIGHT
TZOFFSETFROM:-0700
TZOFFSETTO:-0600
TZNAME:MDT
DTSTART:20260308T090000
END:DAYLIGHT
BEGIN:STANDARD
TZOFFSETFROM:-0600
TZOFFSETTO:-0700
TZNAME:MST
DTSTART:20261101T080000
END:STANDARD
BEGIN:DAYLIGHT
TZOFFSETFROM:-0700
TZOFFSETTO:-0600
TZNAME:MDT
DTSTART:20270314T090000
END:DAYLIGHT
BEGIN:STANDARD
TZOFFSETFROM:-0600
TZOFFSETTO:-0700
TZNAME:MST
DTSTART:20271107T080000
END:STANDARD
END:VTIMEZONE
BEGIN:VEVENT
DTSTART;VALUE=DATE:20260419
DTEND;VALUE=DATE:20260420
DTSTAMP:20260419T063900
CREATED:20260417T194615Z
LAST-MODIFIED:20260418T194715Z
UID:10010328-1776556800-1776643199@lemanacademy.com
SUMMARY:Leman Night @ Elevate
DESCRIPTION:
URL:https://lemanacademy.com/event/leman-night-elevate/
CATEGORIES:Oro Valley (K-8)
END:VEVENT
BEGIN:VEVENT
DTSTART;VALUE=DATE:20260420
DTEND;VALUE=DATE:20260421
DTSTAMP:20260419T063900
CREATED:20250625T175259Z
LAST-MODIFIED:20260418T173117Z
UID:10008376-1776643200-1776729599@lemanacademy.com
SUMMARY:Green Day
DESCRIPTION:
URL:https://lemanacademy.com/event/green-day-92/
LOCATION:Leman Academy of Excellence – Parker Bayou Gulch\, Parker\, CO\, United States
CATEGORIES:Parker-Bayou Gulch (K-8)
GEO:39.489472;-104.844731
END:VEVENT
BEGIN:VEVENT
DTSTART;VALUE=DATE:20260420
DTEND;VALUE=DATE:20260421
DTSTAMP:20260419T063900
CREATED:20260211T182246Z
LAST-MODIFIED:20260418T234808Z
UID:10009832-1776643200-1776729599@lemanacademy.com
SUMMARY:White Day K-8th grade
DESCRIPTION:
URL:https://lemanacademy.com/event/white-day-k-8th-grade-36/
LOCATION:Leman Academy of Excellence-Parker Stroh\, 8998 Stroh Rd\, Parker\, CO\, United States
CATEGORIES:Parker-Stroh (K-8)
GEO:39.478657;-104.737811
X-APPLE-STRUCTURED-LOCATION;VALUE=URI;X-ADDRESS=Leman Academy of Excellence-Parker Stroh 8998 Stroh Rd Parker CO United States;X-APPLE-RADIUS=500;X-TITLE=8998 Stroh Rd:geo:-104.737811,39.478657
END:VEVENT
BEGIN:VEVENT
DTSTART;TZID=America/Denver:20260420T090000
DTEND;TZID=America/Denver:20260420T093000
DTSTAMP:20260419T063900
CREATED:20260211T182243Z
LAST-MODIFIED:20260418T234808Z
UID:10009830-1776675600-1776677400@lemanacademy.com
SUMMARY:School Tour Stroh
DESCRIPTION:
URL:https://lemanacademy.com/event/school-tour-stroh-14/
LOCATION:Leman Academy of Excellence-Parker Stroh\, 8998 Stroh Rd\, Parker\, CO\, United States
CATEGORIES:Parker-Stroh (K-8)
GEO:39.478657;-104.737811
X-APPLE-STRUCTURED-LOCATION;VALUE=URI;X-ADDRESS=Leman Academy of Excellence-Parker Stroh 8998 Stroh Rd Parker CO United States;X-APPLE-RADIUS=500;X-TITLE=8998 Stroh Rd:geo:-104.737811,39.478657
END:VEVENT
BEGIN:VEVENT
DTSTART;TZID=America/Phoenix:20260420T090000
DTEND;TZID=America/Phoenix:20260420T100000
DTSTAMP:20260419T063900
CREATED:20260224T230802Z
LAST-MODIFIED:20260419T022234Z
UID:10010038-1776675600-1776679200@lemanacademy.com
SUMMARY:Stroh Campus Tour
DESCRIPTION:RSVP TodayDiscover our campus\, meet our staff\, and explore the programs that make our school a great place to learn and grow. Join us for a guided tour and get answers to your enrollment questions.
URL:https://lemanacademy.com/event/stroh-campus-tour-4/
LOCATION:Leman Academy of Excellence-Parker Stroh\, 8998 Stroh Rd\, Parker\, CO\, United States
CATEGORIES:Community Events
GEO:39.478657;-104.737811
X-APPLE-STRUCTURED-LOCATION;VALUE=URI;X-ADDRESS=Leman Academy of Excellence-Parker Stroh 8998 Stroh Rd Parker CO United States;X-APPLE-RADIUS=500;X-TITLE=8998 Stroh Rd:geo:-104.737811,39.478657
END:VEVENT
BEGIN:VEVENT
DTSTART;TZID=America/Phoenix:20260420T150000
DTEND;TZID=America/Phoenix:20260420T161500
DTSTAMP:20260419T063900
CREATED:20260318T234948Z
LAST-MODIFIED:20260418T235607Z
UID:10010175-1776697200-1776701700@lemanacademy.com
SUMMARY:Adventure Awaits
DESCRIPTION:Adventure Awaits Club \n1st-5th Graders \nGet ready for crafts\, games and fun that will get them excited to keep the fun all summer long. \nUse this form to sign up today!
URL:https://lemanacademy.com/event/adventure-awaits-5/
LOCATION:Leman Academy of Excellence-East Tucson\, 10100 E Golf Links Rd.\, Tucson\, AZ\, 85730
CATEGORIES:East Tucson (K-8)
END:VEVENT
BEGIN:VEVENT
DTSTART;TZID=America/Phoenix:20260420T151000
DTEND;TZID=America/Phoenix:20260420T161000
DTSTAMP:20260419T063900
CREATED:20260408T173947Z
LAST-MODIFIED:20260418T194724Z
UID:10010272-1776697800-1776701400@lemanacademy.com
SUMMARY:Taekwondo After School Club
DESCRIPTION:Join Leman Academy of Excellence Oro Valley for this upcoming After School Club. For full details\, please contact the campus or check your school communications for updates.
URL:https://lemanacademy.com/event/taekwondo-after-school-club-56/
LOCATION:Leman Academy of Excellence-Oro Valley\, 12255 N La Cañada Drive\, Oro Valley\, AZ\, 85755
CATEGORIES:Oro Valley (K-8)
END:VEVENT
BEGIN:VEVENT
DTSTART;TZID=America/Phoenix:20260420T151000
DTEND;TZID=America/Phoenix:20260420T161000
DTSTAMP:20260419T063900
CREATED:20260408T173947Z
LAST-MODIFIED:20260418T194724Z
UID:10010273-1776697800-1776701400@lemanacademy.com
SUMMARY:Lego Club After School
DESCRIPTION:Join Leman Academy of Excellence Oro Valley for this upcoming Lego After School Club. For full details\, please contact the campus or check your school communications for updates.
URL:https://lemanacademy.com/event/lego-club-after-school-46/
LOCATION:Leman Academy of Excellence-Oro Valley\, 12255 N La Cañada Drive\, Oro Valley\, AZ\, 85755
CATEGORIES:Oro Valley (K-8)
END:VEVENT
BEGIN:VEVENT
DTSTART;TZID=America/Phoenix:20260420T160000
DTEND;TZID=America/Phoenix:20260420T170000
DTSTAMP:20260419T063900
CREATED:20260404T055450Z
LAST-MODIFIED:20260419T064011Z
UID:10010242-1776700800-1776704400@lemanacademy.com
SUMMARY:Baseball game @ Pusch Ridge
DESCRIPTION:
URL:https://lemanacademy.com/event/baseball-game-pusch-ridge-2/
CATEGORIES:Marana (K-8)
END:VEVENT
BEGIN:VEVENT
DTSTART;TZID=America/Phoenix:20260420T160000
DTEND;TZID=America/Phoenix:20260420T190000
DTSTAMP:20260419T063900
CREATED:20260408T173937Z
LAST-MODIFIED:20260418T194724Z
UID:10010271-1776700800-1776711600@lemanacademy.com
SUMMARY:Boys Basketball vs The Gregory School (A\, B & C teams)
DESCRIPTION:A- team @4pm\nB- team @5pm\nC- team @6pm
URL:https://lemanacademy.com/event/boys-basketball-vs-the-gregory-school-a-b-c-teams/
LOCATION:Leman Academy of Excellence-Oro Valley\, 12255 N La Cañada Drive\, Oro Valley\, AZ\, 85755
CATEGORIES:Oro Valley (K-8)
END:VEVENT
BEGIN:VEVENT
DTSTART;TZID=America/Phoenix:20260420T170000
DTEND;TZID=America/Phoenix:20260420T190000
DTSTAMP:20260419T063900
CREATED:20260408T173947Z
LAST-MODIFIED:20260418T194724Z
UID:10010274-1776704400-1776711600@lemanacademy.com
SUMMARY:Girls Basketball @The Gregory School
DESCRIPTION:A- team @4pm\nB- team @5pm
URL:https://lemanacademy.com/event/girls-basketball-the-gregory-school/
LOCATION:The Gregory School\, 3231 N Craycroft Rd\, Tucson\, AZ\, United States
CATEGORIES:Oro Valley (K-8)
GEO:32.266321;-110.875013
X-APPLE-STRUCTURED-LOCATION;VALUE=URI;X-ADDRESS=The Gregory School 3231 N Craycroft Rd Tucson AZ United States;X-APPLE-RADIUS=500;X-TITLE=3231 N Craycroft Rd:geo:-110.875013,32.266321
END:VEVENT
BEGIN:VEVENT
DTSTART;VALUE=DATE:20260421
DTEND;VALUE=DATE:20260422
DTSTAMP:20260419T063900
CREATED:20250626T180608Z
LAST-MODIFIED:20260418T173119Z
UID:10008382-1776729600-1776815999@lemanacademy.com
SUMMARY:Silver Day
DESCRIPTION:
URL:https://lemanacademy.com/event/silver-day-42/
LOCATION:Leman Academy of Excellence – Parker Bayou Gulch\, Parker\, CO\, United States
CATEGORIES:Parker-Bayou Gulch (K-8)
GEO:39.489472;-104.844731
END:VEVENT
BEGIN:VEVENT
DTSTART;VALUE=DATE:20260421
DTEND;VALUE=DATE:20260422
DTSTAMP:20260419T063900
CREATED:20260211T182244Z
LAST-MODIFIED:20260418T234812Z
UID:10009831-1776729600-1776815999@lemanacademy.com
SUMMARY:Gold Day K-8th grade
DESCRIPTION:
URL:https://lemanacademy.com/event/gold-day-k-8th-grade-37/
LOCATION:Leman Academy of Excellence-Parker Stroh\, 8998 Stroh Rd\, Parker\, CO\, United States
CATEGORIES:Parker-Stroh (K-8)
GEO:39.478657;-104.737811
X-APPLE-STRUCTURED-LOCATION;VALUE=URI;X-ADDRESS=Leman Academy of Excellence-Parker Stroh 8998 Stroh Rd Parker CO United States;X-APPLE-RADIUS=500;X-TITLE=8998 Stroh Rd:geo:-104.737811,39.478657
END:VEVENT
BEGIN:VEVENT
DTSTART;TZID=America/Phoenix:20260421T150000
DTEND;TZID=America/Phoenix:20260421T160000
DTSTAMP:20260419T063900
CREATED:20260408T173948Z
LAST-MODIFIED:20260418T194729Z
UID:10010275-1776783600-1776787200@lemanacademy.com
SUMMARY:Art Club After School
DESCRIPTION:
URL:https://lemanacademy.com/event/art-club-after-school-84/
LOCATION:Leman Academy of Excellence-Oro Valley\, 12255 N La Cañada Drive\, Oro Valley\, AZ\, 85755
CATEGORIES:Oro Valley (K-8)
END:VEVENT
BEGIN:VEVENT
DTSTART;TZID=America/Phoenix:20260421T151000
DTEND;TZID=America/Phoenix:20260421T161000
DTSTAMP:20260419T063900
CREATED:20260408T173948Z
LAST-MODIFIED:20260418T194724Z
UID:10010276-1776784200-1776787800@lemanacademy.com
SUMMARY:Choir Club After School
DESCRIPTION:Join Leman Academy of Excellence Oro Valley for this upcoming After School Club. For full details\, please contact the campus or check your school communications for updates. \nMeet in MS Music Room
URL:https://lemanacademy.com/event/choir-club-after-school-24/
LOCATION:Leman Academy of Excellence-Oro Valley\, 12255 N La Cañada Drive\, Oro Valley\, AZ\, 85755
CATEGORIES:Oro Valley (K-8)
END:VEVENT
BEGIN:VEVENT
DTSTART;TZID=America/Phoenix:20260421T151500
DTEND;TZID=America/Phoenix:20260421T161500
DTSTAMP:20260419T063900
CREATED:20260318T234948Z
LAST-MODIFIED:20260418T235608Z
UID:10010176-1776784500-1776788100@lemanacademy.com
SUMMARY:TGA Volleyball
DESCRIPTION:PLAY VOLLEYBALL at Leman Academy EastOur multi-week program is ideal for all players— from beginners to experienced volleyballplayers — and is designed to refine skill\,achieve success\, promote discovery throughplay and provide a pathway to Keep Playing!®FOR KINDERGARTEN – 5TH GRADE STUDENTSDATES:03/31/2026 – 05/05/2026DAY:TuesdayTIME:3:15pm – 4:15pmCOST:$138.00For more information contact Ryan Dunn atrdunn@playtga.comMulti-sibling discount available with the code \nSIBLING at checkout! \nhttps://drive.google.com/file/d/1iMPupXy-iWYt61qOXL5nc3cSt2kcIeFZ/view
URL:https://lemanacademy.com/event/tga-volleyball-10/
LOCATION:Leman Academy of Excellence-East Tucson\, 10100 E Golf Links Rd.\, Tucson\, AZ\, 85730
CATEGORIES:East Tucson (K-8)
END:VEVENT
BEGIN:VEVENT
DTSTART;TZID=America/Denver:20260421T153000
DTEND;TZID=America/Denver:20260421T163000
DTSTAMP:20260419T063900
CREATED:20260211T182247Z
LAST-MODIFIED:20260418T234808Z
UID:10009833-1776785400-1776789000@lemanacademy.com
SUMMARY:Chess Club
DESCRIPTION:
URL:https://lemanacademy.com/event/chess-club-56/
LOCATION:Leman Academy of Excellence-Parker Stroh\, 8998 Stroh Rd\, Parker\, CO\, United States
CATEGORIES:Parker-Stroh (K-8)
GEO:39.478657;-104.737811
X-APPLE-STRUCTURED-LOCATION;VALUE=URI;X-ADDRESS=Leman Academy of Excellence-Parker Stroh 8998 Stroh Rd Parker CO United States;X-APPLE-RADIUS=500;X-TITLE=8998 Stroh Rd:geo:-104.737811,39.478657
END:VEVENT
BEGIN:VEVENT
DTSTART;TZID=America/Phoenix:20260421T154500
DTEND;TZID=America/Phoenix:20260421T164500
DTSTAMP:20260419T063900
CREATED:20260224T230802Z
LAST-MODIFIED:20260419T022235Z
UID:10010039-1776786300-1776789900@lemanacademy.com
SUMMARY:Bayou Gulch Campus Tour
DESCRIPTION:RSVP Today!Discover our campus\, meet our staff\, and explore the programs that make our school a great place to learn and grow. Join us for a guided tour and get answers to your enrollment questions.
URL:https://lemanacademy.com/event/bayou-gulch-campus-tour-4/
LOCATION:Leman Academy of Excellence – Parker Bayou Gulch\, Parker\, CO\, United States
CATEGORIES:Community Events
GEO:39.489472;-104.844731
END:VEVENT
BEGIN:VEVENT
DTSTART;TZID=America/Phoenix:20260421T160000
DTEND;TZID=America/Phoenix:20260421T170000
DTSTAMP:20260419T063900
CREATED:20260404T055450Z
LAST-MODIFIED:20260419T064015Z
UID:10010244-1776787200-1776790800@lemanacademy.com
SUMMARY:Baseball game Home vs Leman OV
DESCRIPTION:
URL:https://lemanacademy.com/event/baseball-game-home-vs-leman-ov/
CATEGORIES:Marana (K-8)
END:VEVENT
BEGIN:VEVENT
DTSTART;TZID=America/Phoenix:20260421T160000
DTEND;TZID=America/Phoenix:20260421T180000
DTSTAMP:20260419T063900
CREATED:20260403T073935Z
LAST-MODIFIED:20260419T091012Z
UID:10010232-1776787200-1776794400@lemanacademy.com
SUMMARY:Baseball/Softball vs. RBMS
DESCRIPTION:
URL:https://lemanacademy.com/event/baseball-softball-vs-rbms/
LOCATION:Leman Academy of Excellence-Sierra Vista\, 1000 E Wilcox Dr\, Sierra Vista\, AZ\, 85635
CATEGORIES:Sierra Vista (K-8)
END:VEVENT
BEGIN:VEVENT
DTSTART;TZID=America/Denver:20260421T161500
DTEND;TZID=America/Denver:20260421T171500
DTSTAMP:20260419T063900
CREATED:20260311T233310Z
LAST-MODIFIED:20260418T234809Z
UID:10010107-1776788100-1776791700@lemanacademy.com
SUMMARY:Leman Girl's Soccer vs. Aspen View @ AVA
DESCRIPTION:
URL:https://lemanacademy.com/event/leman-girls-soccer-vs-aspen-view-ava/
CATEGORIES:Parker-Stroh (K-8)
END:VEVENT
BEGIN:VEVENT
DTSTART;TZID=America/Denver:20260421T161500
DTEND;TZID=America/Denver:20260421T171500
DTSTAMP:20260419T063900
CREATED:20260312T064902Z
LAST-MODIFIED:20260418T173117Z
UID:10010117-1776788100-1776791700@lemanacademy.com
SUMMARY:Leman Girl's Soccer vs. Aspen View @ AVA
DESCRIPTION:
URL:https://lemanacademy.com/event/leman-girls-soccer-vs-aspen-view-ava-2/
CATEGORIES:Parker-Bayou Gulch (K-8)
END:VEVENT
BEGIN:VEVENT
DTSTART;TZID=America/Denver:20260421T161500
DTEND;TZID=America/Denver:20260421T181500
DTSTAMP:20260419T063900
CREATED:20260309T235137Z
LAST-MODIFIED:20260418T234812Z
UID:10010089-1776788100-1776795300@lemanacademy.com
SUMMARY:Boys Volleyball Leman @ Littleton Academy
DESCRIPTION:
URL:https://lemanacademy.com/event/boys-volleyball-b-team-leman-littleton-academy/
CATEGORIES:Parker-Stroh (K-8)
END:VEVENT
BEGIN:VEVENT
DTSTART;TZID=America/Phoenix:20260421T180000
DTEND;TZID=America/Phoenix:20260421T190000
DTSTAMP:20260419T063900
CREATED:20250703T183030Z
LAST-MODIFIED:20260419T064016Z
UID:10008535-1776794400-1776798000@lemanacademy.com
SUMMARY:PTO Meeting
DESCRIPTION:
URL:https://lemanacademy.com/event/pto-meeting-26/
LOCATION:Leman Academy of Excellence-Marana\, 7720 N Silverbell Rd\, Tucson\, AZ\, 85743
CATEGORIES:Marana (K-8)
END:VEVENT
BEGIN:VEVENT
DTSTART;VALUE=DATE:20260422
DTEND;VALUE=DATE:20260423
DTSTAMP:20260419T063900
CREATED:20250613T235306Z
LAST-MODIFIED:20260418T235608Z
UID:10008147-1776816000-1776902399@lemanacademy.com
SUMMARY:Teacher In-Service Day: Half Day
DESCRIPTION:
URL:https://lemanacademy.com/event/teacher-in-service-day-half-day-3/
LOCATION:Leman Academy of Excellence-East Tucson\, 10100 E Golf Links Rd.\, Tucson\, AZ\, 85730
CATEGORIES:East Tucson (K-8)
END:VEVENT
BEGIN:VEVENT
DTSTART;VALUE=DATE:20260422
DTEND;VALUE=DATE:20260423
DTSTAMP:20260419T063900
CREATED:20250626T180609Z
LAST-MODIFIED:20260418T173118Z
UID:10008384-1776816000-1776902399@lemanacademy.com
SUMMARY:Blue Day
DESCRIPTION:
URL:https://lemanacademy.com/event/blue-day-94/
LOCATION:Leman Academy of Excellence – Parker Bayou Gulch\, Parker\, CO\, United States
CATEGORIES:Parker-Bayou Gulch (K-8)
GEO:39.489472;-104.844731
END:VEVENT
BEGIN:VEVENT
DTSTART;VALUE=DATE:20260422
DTEND;VALUE=DATE:20260423
DTSTAMP:20260419T063900
CREATED:20260211T182256Z
LAST-MODIFIED:20260418T234812Z
UID:10009834-1776816000-1776902399@lemanacademy.com
SUMMARY:Blue Day K-8th grade
DESCRIPTION:
URL:https://lemanacademy.com/event/blue-day-k-8th-grade-36/
LOCATION:Leman Academy of Excellence-Parker Stroh\, 8998 Stroh Rd\, Parker\, CO\, United States
CATEGORIES:Parker-Stroh (K-8)
GEO:39.478657;-104.737811
X-APPLE-STRUCTURED-LOCATION;VALUE=URI;X-ADDRESS=Leman Academy of Excellence-Parker Stroh 8998 Stroh Rd Parker CO United States;X-APPLE-RADIUS=500;X-TITLE=8998 Stroh Rd:geo:-104.737811,39.478657
END:VEVENT
BEGIN:VEVENT
DTSTART;VALUE=DATE:20260422
DTEND;VALUE=DATE:20260423
DTSTAMP:20260419T063900
CREATED:20260408T173955Z
LAST-MODIFIED:20260418T194729Z
UID:10010277-1776816000-1776902399@lemanacademy.com
SUMMARY:Teacher In-Service: Half Day
DESCRIPTION:Half Day
URL:https://lemanacademy.com/event/teacher-in-service-half-day-2/
LOCATION:Leman Academy of Excellence-Oro Valley\, 12255 N La Cañada Drive\, Oro Valley\, AZ\, 85755
CATEGORIES:Oro Valley (K-8)
END:VEVENT
BEGIN:VEVENT
DTSTART;TZID=America/Phoenix:20260422T090000
DTEND;TZID=America/Phoenix:20260422T103000
DTSTAMP:20260419T063900
CREATED:20260121T134945Z
LAST-MODIFIED:20260418T164735Z
UID:10009637-1776848400-1776853800@lemanacademy.com
SUMMARY:Spring Concert
DESCRIPTION:
URL:https://lemanacademy.com/event/spring-concert/
LOCATION:Leman Academy of Excellence (Mesa\, 10800 S Power Rd\, Mesa\, AZ\, United States
CATEGORIES:Mesa (K-8)
GEO:33.350409;-111.687428
X-APPLE-STRUCTURED-LOCATION;VALUE=URI;X-ADDRESS=Leman Academy of Excellence (Mesa 10800 S Power Rd Mesa AZ United States;X-APPLE-RADIUS=500;X-TITLE=10800 S Power Rd:geo:-111.687428,33.350409
END:VEVENT
BEGIN:VEVENT
DTSTART;TZID=America/Phoenix:20260422T130000
DTEND;TZID=America/Phoenix:20260422T141500
DTSTAMP:20260419T063900
CREATED:20260225T142802Z
LAST-MODIFIED:20260418T164736Z
UID:10010044-1776862800-1776867300@lemanacademy.com
SUMMARY:LEMAN ACADEMY OF EXCELLENCE KIDS HEART CHALLENGE KICK-OFF!
DESCRIPTION:We are excited to kick-off Kids Heart Challenge in person with two presentations! I will be there 30-45 minutes before to set-up. Please have a projector\, screen\, microphone and sound ready to go. Thank you!\n1:00pm-1:30pm (K-3)\n1:45-2:15am (4-8)
URL:https://lemanacademy.com/event/leman-academy-of-excellence-kids-heart-challenge-kick-off/
LOCATION:Leman Academy Of Excellence (mesa\, Az) (3761 S Power Rd\, Mesa\, AZ 85212\, United States)
CATEGORIES:Mesa (K-8)
END:VEVENT
END:VCALENDAR