BEGIN:VCALENDAR
VERSION:2.0
PRODID:-//Leman Academy of Excellence - ECPv6.15.20//NONSGML v1.0//EN
CALSCALE:GREGORIAN
METHOD:PUBLISH
X-WR-CALNAME:Leman Academy of Excellence
X-ORIGINAL-URL:https://lemanacademy.com
X-WR-CALDESC:Events for Leman Academy of Excellence
REFRESH-INTERVAL;VALUE=DURATION:PT1H
X-Robots-Tag:noindex
X-PUBLISHED-TTL:PT1H
BEGIN:VTIMEZONE
TZID:America/Phoenix
BEGIN:STANDARD
TZOFFSETFROM:-0700
TZOFFSETTO:-0700
TZNAME:MST
DTSTART:20230101T000000
END:STANDARD
END:VTIMEZONE
BEGIN:VEVENT
DTSTART;VALUE=DATE:20240222
DTEND;VALUE=DATE:20240223
DTSTAMP:20260421T023057
CREATED:20231108T132117Z
LAST-MODIFIED:20250805T183231Z
UID:9580-1708560000-1708646399@lemanacademy.com
SUMMARY:Early Release
DESCRIPTION:
URL:https://lemanacademy.com/event/early-release-7/
CATEGORIES:Sierra Vista (K-8)
END:VEVENT
END:VCALENDAR