BEGIN:VCALENDAR
VERSION:2.0
PRODID:-//Leman Academy of Excellence - ECPv6.15.20//NONSGML v1.0//EN
CALSCALE:GREGORIAN
METHOD:PUBLISH
X-WR-CALNAME:Leman Academy of Excellence
X-ORIGINAL-URL:https://lemanacademy.com
X-WR-CALDESC:Events for Leman Academy of Excellence
REFRESH-INTERVAL;VALUE=DURATION:PT1H
X-Robots-Tag:noindex
X-PUBLISHED-TTL:PT1H
BEGIN:VTIMEZONE
TZID:America/Phoenix
BEGIN:STANDARD
TZOFFSETFROM:-0700
TZOFFSETTO:-0700
TZNAME:MST
DTSTART:20240101T000000
END:STANDARD
END:VTIMEZONE
BEGIN:VEVENT
DTSTART;VALUE=DATE:20251219
DTEND;VALUE=DATE:20251220
DTSTAMP:20260422T092629
CREATED:20250613T235202Z
LAST-MODIFIED:20260421T235500Z
UID:25466-1766102400-1766188799@lemanacademy.com
SUMMARY:End of 2nd Quarter: Half Day
DESCRIPTION:
URL:https://lemanacademy.com/event/end-of-2nd-quarter-half-day-2/
LOCATION:Leman Academy of Excellence (East Tucson\, 6257 E Golf Links Rd\, Tucson\, AZ\, United States
CATEGORIES:East Tucson (K-8)
GEO:32.192133;-110.857928
X-APPLE-STRUCTURED-LOCATION;VALUE=URI;X-ADDRESS=Leman Academy of Excellence (East Tucson 6257 E Golf Links Rd Tucson AZ United States;X-APPLE-RADIUS=500;X-TITLE=6257 E Golf Links Rd:geo:-110.857928,32.192133
END:VEVENT
END:VCALENDAR