BEGIN:VCALENDAR
VERSION:2.0
PRODID:-//Leman Academy of Excellence - ECPv6.15.20//NONSGML v1.0//EN
CALSCALE:GREGORIAN
METHOD:PUBLISH
X-WR-CALNAME:Leman Academy of Excellence
X-ORIGINAL-URL:https://lemanacademy.com
X-WR-CALDESC:Events for Leman Academy of Excellence
REFRESH-INTERVAL;VALUE=DURATION:PT1H
X-Robots-Tag:noindex
X-PUBLISHED-TTL:PT1H
BEGIN:VTIMEZONE
TZID:America/Phoenix
BEGIN:STANDARD
TZOFFSETFROM:-0700
TZOFFSETTO:-0700
TZNAME:MST
DTSTART:20250101T000000
END:STANDARD
END:VTIMEZONE
BEGIN:VEVENT
DTSTART;VALUE=DATE:20260314
DTEND;VALUE=DATE:20260316
DTSTAMP:20260420T021454
CREATED:20260202T225049Z
LAST-MODIFIED:20260315T003723Z
UID:32180-1773446400-1773619199@lemanacademy.com
SUMMARY:Festival of Books
DESCRIPTION:We are excited to be a part of this years event and would love for families to stop by our booth #348! \nCome meet Dr. Kevin Leman\, Author of over 70 books on parenting and family and a New York Times best selling author. \nWe’ll also have a spin-to-win prize wheel with fun giveaways. You may get the chance to win one of many Dr. Leman signed books! We can’t wait to see you there. \nColor with Leo\, Leman mascot and royal reading champion. Join in on a fun\, hands-on activity where kids can help Leo create something special. \nQuestions? Learn more HERE
URL:https://lemanacademy.com/event/festival-of-books/
LOCATION:University of Arizona Mall\, 1607 E University Blvd\, Tucson\, AZ\, 85719
CATEGORIES:Community Events
END:VEVENT
END:VCALENDAR