BEGIN:VCALENDAR
VERSION:2.0
PRODID:-//Leman Academy of Excellence - ECPv6.15.20//NONSGML v1.0//EN
CALSCALE:GREGORIAN
METHOD:PUBLISH
X-WR-CALNAME:Leman Academy of Excellence
X-ORIGINAL-URL:https://lemanacademy.com
X-WR-CALDESC:Events for Leman Academy of Excellence
REFRESH-INTERVAL;VALUE=DURATION:PT1H
X-Robots-Tag:noindex
X-PUBLISHED-TTL:PT1H
BEGIN:VTIMEZONE
TZID:America/Phoenix
BEGIN:STANDARD
TZOFFSETFROM:-0700
TZOFFSETTO:-0700
TZNAME:MST
DTSTART:20250101T000000
END:STANDARD
END:VTIMEZONE
BEGIN:VEVENT
DTSTART;TZID=America/Phoenix:20260414T170000
DTEND;TZID=America/Phoenix:20260414T190000
DTSTAMP:20260422T020928
CREATED:20260408T173932Z
LAST-MODIFIED:20260421T195049Z
UID:33823-1776186000-1776193200@lemanacademy.com
SUMMARY:Girls Basketball vs. Leman Central
DESCRIPTION:A- team @4pm\nB- team @5pm
URL:https://lemanacademy.com/event/girls-basketball-vs-leman-central/
LOCATION:Leman Academy of Excellence-Oro Valley\, 12255 N La Cañada Drive\, Oro Valley\, AZ\, 85755
CATEGORIES:Oro Valley (K-8)
END:VEVENT
END:VCALENDAR