BEGIN:VCALENDAR
VERSION:2.0
PRODID:-//Leman Academy of Excellence - ECPv6.15.20//NONSGML v1.0//EN
CALSCALE:GREGORIAN
METHOD:PUBLISH
X-WR-CALNAME:Leman Academy of Excellence
X-ORIGINAL-URL:https://lemanacademy.com
X-WR-CALDESC:Events for Leman Academy of Excellence
REFRESH-INTERVAL;VALUE=DURATION:PT1H
X-Robots-Tag:noindex
X-PUBLISHED-TTL:PT1H
BEGIN:VTIMEZONE
TZID:America/Phoenix
BEGIN:STANDARD
TZOFFSETFROM:-0700
TZOFFSETTO:-0700
TZNAME:MST
DTSTART:20230101T000000
END:STANDARD
END:VTIMEZONE
BEGIN:VEVENT
DTSTART;TZID=America/Phoenix:20240813T151500
DTEND;TZID=America/Phoenix:20240813T170000
DTSTAMP:20260423T092019
CREATED:20240806T184452Z
LAST-MODIFIED:20250701T182013Z
UID:15865-1723562100-1723568400@lemanacademy.com
SUMMARY:Girls Volleyball Tryouts (7th & 8th Graders)
DESCRIPTION:GIRLS Volleyball Tryouts (meet in gym)Monday August 12th – 5th and 6th gradersTuesday August 13th – 7th and 8th gradersWednesday August 14th – CALL BACKS ONLYAll days will be from 3:15-5:00Pick up at Kinder Gate.  Coach will escort them to pick up.
URL:https://lemanacademy.com/event/girls-volleyball-tryouts-7th-8th-graders/
CATEGORIES:Marana (K-8)
END:VEVENT
END:VCALENDAR