BEGIN:VCALENDAR
VERSION:2.0
PRODID:-//Leman Academy of Excellence - ECPv6.15.20//NONSGML v1.0//EN
CALSCALE:GREGORIAN
METHOD:PUBLISH
X-WR-CALNAME:Leman Academy of Excellence
X-ORIGINAL-URL:https://lemanacademy.com
X-WR-CALDESC:Events for Leman Academy of Excellence
REFRESH-INTERVAL;VALUE=DURATION:PT1H
X-Robots-Tag:noindex
X-PUBLISHED-TTL:PT1H
BEGIN:VTIMEZONE
TZID:America/Phoenix
BEGIN:STANDARD
TZOFFSETFROM:-0700
TZOFFSETTO:-0700
TZNAME:MST
DTSTART:20250101T000000
END:STANDARD
END:VTIMEZONE
BEGIN:VEVENT
DTSTART;TZID=America/Phoenix:20260122T160000
DTEND;TZID=America/Phoenix:20260122T170000
DTSTAMP:20260422T035701
CREATED:20251209T214322Z
LAST-MODIFIED:20260421T201642Z
UID:31173-1769097600-1769101200@lemanacademy.com
SUMMARY:Soccer A Team @ Emily Gray
DESCRIPTION:
URL:https://lemanacademy.com/event/soccer-a-team-emily-gray/
LOCATION:11150 E Tanque Verde Rd\, Tucson\, AZ\, United States
CATEGORIES:Central Tucson (K-8)
GEO:32.263975;-110.74667
END:VEVENT
END:VCALENDAR