BEGIN:VCALENDAR
VERSION:2.0
PRODID:-//Leman Academy of Excellence - ECPv6.15.20//NONSGML v1.0//EN
CALSCALE:GREGORIAN
METHOD:PUBLISH
X-WR-CALNAME:Leman Academy of Excellence
X-ORIGINAL-URL:https://lemanacademy.com
X-WR-CALDESC:Events for Leman Academy of Excellence
REFRESH-INTERVAL;VALUE=DURATION:PT1H
X-Robots-Tag:noindex
X-PUBLISHED-TTL:PT1H
BEGIN:VTIMEZONE
TZID:America/Phoenix
BEGIN:STANDARD
TZOFFSETFROM:-0700
TZOFFSETTO:-0700
TZNAME:MST
DTSTART:20250101T000000
END:STANDARD
END:VTIMEZONE
BEGIN:VEVENT
DTSTART;TZID=America/Phoenix:20260518T180000
DTEND;TZID=America/Phoenix:20260518T190000
DTSTAMP:20260424T093344
CREATED:20260421T195230Z
LAST-MODIFIED:20260423T200626Z
UID:34111-1779127200-1779130800@lemanacademy.com
SUMMARY:Talent Show
DESCRIPTION:
URL:https://lemanacademy.com/event/talent-show-3/
CATEGORIES:Oro Valley (K-8)
END:VEVENT
END:VCALENDAR