BEGIN:VCALENDAR
VERSION:2.0
PRODID:-//Leman Academy of Excellence - ECPv6.15.20//NONSGML v1.0//EN
CALSCALE:GREGORIAN
METHOD:PUBLISH
X-WR-CALNAME:Leman Academy of Excellence
X-ORIGINAL-URL:https://lemanacademy.com
X-WR-CALDESC:Events for Leman Academy of Excellence
REFRESH-INTERVAL;VALUE=DURATION:PT1H
X-Robots-Tag:noindex
X-PUBLISHED-TTL:PT1H
BEGIN:VTIMEZONE
TZID:America/Phoenix
BEGIN:STANDARD
TZOFFSETFROM:-0700
TZOFFSETTO:-0700
TZNAME:MST
DTSTART:20240101T000000
END:STANDARD
END:VTIMEZONE
BEGIN:VEVENT
DTSTART;TZID=America/Phoenix:20251014T160000
DTEND;TZID=America/Phoenix:20251014T200000
DTSTAMP:20260422T053657
CREATED:20250909T200521Z
LAST-MODIFIED:20260421T165703Z
UID:28819-1760457600-1760472000@lemanacademy.com
SUMMARY:YMCA Gym Rental
DESCRIPTION:Fall Sports Season\nAddress: 3761 S. Power Rd\, Mesa AZ 85212\nJoin with Google Meet: https://meet.google.com/cyy-ayeh-try\nOr dial: (US) +1 706-750-8383 PIN: 504362065#\nLearn more about Meet at: https://support.google.com/a/users/answer/9282720
URL:https://lemanacademy.com/event/ymca-gym-rental-22/
CATEGORIES:Mesa (K-8)
END:VEVENT
END:VCALENDAR