BEGIN:VCALENDAR
VERSION:2.0
PRODID:-//Leman Academy of Excellence - ECPv6.15.20//NONSGML v1.0//EN
CALSCALE:GREGORIAN
METHOD:PUBLISH
X-ORIGINAL-URL:https://lemanacademy.com
X-WR-CALDESC:Events for Leman Academy of Excellence
REFRESH-INTERVAL;VALUE=DURATION:PT1H
X-Robots-Tag:noindex
X-PUBLISHED-TTL:PT1H
BEGIN:VTIMEZONE
TZID:America/Denver
BEGIN:DAYLIGHT
TZOFFSETFROM:-0700
TZOFFSETTO:-0600
TZNAME:MDT
DTSTART:20230312T090000
END:DAYLIGHT
BEGIN:STANDARD
TZOFFSETFROM:-0600
TZOFFSETTO:-0700
TZNAME:MST
DTSTART:20231105T080000
END:STANDARD
BEGIN:DAYLIGHT
TZOFFSETFROM:-0700
TZOFFSETTO:-0600
TZNAME:MDT
DTSTART:20240310T090000
END:DAYLIGHT
BEGIN:STANDARD
TZOFFSETFROM:-0600
TZOFFSETTO:-0700
TZNAME:MST
DTSTART:20241103T080000
END:STANDARD
BEGIN:DAYLIGHT
TZOFFSETFROM:-0700
TZOFFSETTO:-0600
TZNAME:MDT
DTSTART:20250309T090000
END:DAYLIGHT
BEGIN:STANDARD
TZOFFSETFROM:-0600
TZOFFSETTO:-0700
TZNAME:MST
DTSTART:20251102T080000
END:STANDARD
END:VTIMEZONE
BEGIN:VTIMEZONE
TZID:America/Phoenix
BEGIN:STANDARD
TZOFFSETFROM:-0700
TZOFFSETTO:-0700
TZNAME:MST
DTSTART:20230101T000000
END:STANDARD
END:VTIMEZONE
BEGIN:VEVENT
DTSTART;TZID=America/Denver:20240905T161500
DTEND;TZID=America/Denver:20240905T171500
DTSTAMP:20260420T075008
CREATED:20240807T025600Z
LAST-MODIFIED:20251203T233424Z
UID:10004127-1725552900-1725556500@lemanacademy.com
SUMMARY:Girls Volleyball Leman vs SVA @ SVA
DESCRIPTION:
URL:https://lemanacademy.com/event/girls-volleyball-leman-vs-sva-sva/
LOCATION:AZ
CATEGORIES:Parker-Stroh (K-8)
END:VEVENT
BEGIN:VEVENT
DTSTART;TZID=America/Phoenix:20240905T170000
DTEND;TZID=America/Phoenix:20240905T180000
DTSTAMP:20260420T075008
CREATED:20240814T201351Z
LAST-MODIFIED:20250701T182139Z
UID:10004325-1725555600-1725559200@lemanacademy.com
SUMMARY:Volleyball B Team AWAY @ LAE Central
DESCRIPTION:Join with Google Meet: https://meet.google.com/rqo-epsd-fbf\nOr dial: (US) +1 650-980-4074 PIN: 809705943#\nLearn more about Meet at: https://support.google.com/a/users/answer/9282720
URL:https://lemanacademy.com/event/volleyball-b-team-away-lae-central/
LOCATION:AZ
CATEGORIES:Marana (K-8)
END:VEVENT
BEGIN:VEVENT
DTSTART;TZID=America/Phoenix:20240905T170000
DTEND;TZID=America/Phoenix:20240905T180000
DTSTAMP:20260420T075008
CREATED:20240817T014621Z
LAST-MODIFIED:20260419T195340Z
UID:10004564-1725555600-1725559200@lemanacademy.com
SUMMARY:Volleyball B Team Vs Leman Marana
DESCRIPTION:
URL:https://lemanacademy.com/event/volleyball-b-team-vs-leman-marana/
LOCATION:6188 E Pima St\, Tucson\, AZ\, United States
CATEGORIES:Central Tucson (K-8)
GEO:32.253714;-110.883744
END:VEVENT
BEGIN:VEVENT
DTSTART;TZID=America/Phoenix:20240905T170000
DTEND;TZID=America/Phoenix:20240905T180000
DTSTAMP:20260420T075008
CREATED:20240824T000107Z
LAST-MODIFIED:20260331T235414Z
UID:10004645-1725555600-1725559200@lemanacademy.com
SUMMARY:Coed Flag Football: Desert Christian vs. East (B Team)
DESCRIPTION:A Team @ 4 pm\, B Team @ 5 pm\nHome Game
URL:https://lemanacademy.com/event/coed-flag-football-desert-christian-vs-east-b-team/
LOCATION:AZ
CATEGORIES:East Tucson (K-8)
END:VEVENT
BEGIN:VEVENT
DTSTART;VALUE=DATE:20240906
DTEND;VALUE=DATE:20240907
DTSTAMP:20260420T075008
CREATED:20240530T031550Z
LAST-MODIFIED:20251203T233424Z
UID:10003038-1725580800-1725667199@lemanacademy.com
SUMMARY:Blue Day K-4th grade
DESCRIPTION:
URL:https://lemanacademy.com/event/blue-day-k-4th-grade-45/
LOCATION:AZ
CATEGORIES:Parker-Stroh (K-8)
END:VEVENT
BEGIN:VEVENT
DTSTART;VALUE=DATE:20240906
DTEND;VALUE=DATE:20240907
DTSTAMP:20260420T075008
CREATED:20240530T031554Z
LAST-MODIFIED:20251203T233424Z
UID:10003040-1725580800-1725667199@lemanacademy.com
SUMMARY:Green Day 5th-8th grade
DESCRIPTION:
URL:https://lemanacademy.com/event/green-day-5th-8th-grade-71/
LOCATION:AZ
CATEGORIES:Parker-Stroh (K-8)
END:VEVENT
BEGIN:VEVENT
DTSTART;VALUE=DATE:20240906
DTEND;VALUE=DATE:20240907
DTSTAMP:20260420T075008
CREATED:20240816T191837Z
LAST-MODIFIED:20251021T204134Z
UID:10004371-1725580800-1725667199@lemanacademy.com
SUMMARY:Blue Day
DESCRIPTION:
URL:https://lemanacademy.com/event/blue-day-3/
LOCATION:AZ
CATEGORIES:Parker-Bayou Gulch (K-8)
END:VEVENT
BEGIN:VEVENT
DTSTART;TZID=America/Phoenix:20240906T151500
DTEND;TZID=America/Phoenix:20240906T163000
DTSTAMP:20260420T075008
CREATED:20240806T025403Z
LAST-MODIFIED:20260331T235414Z
UID:10004037-1725635700-1725640200@lemanacademy.com
SUMMARY:Chess After School Club
DESCRIPTION:https://mcusercontent.com/596d413c63c45f22489098f4f/images/8a62bf7e-2f3b-d7e5-bdb9-e52aa18959c4.jpg
URL:https://lemanacademy.com/event/chess-after-school-club-5/
LOCATION:AZ
CATEGORIES:East Tucson (K-8)
END:VEVENT
BEGIN:VEVENT
DTSTART;TZID=America/Phoenix:20240906T153000
DTEND;TZID=America/Phoenix:20240906T163000
DTSTAMP:20260420T075008
CREATED:20240812T224312Z
LAST-MODIFIED:20250805T183741Z
UID:10004275-1725636600-1725640200@lemanacademy.com
SUMMARY:Cross Country Practice
DESCRIPTION:Cross country practice with Coach Tracey (520 508 6639) atÂ Keith Hampton Memorial football field/track complex.
URL:https://lemanacademy.com/event/cross-country-practice-12/
LOCATION:Keith Hampton Memorial Football Field/Track Complex
CATEGORIES:Sierra Vista (K-8)
END:VEVENT
BEGIN:VEVENT
DTSTART;TZID=America/Phoenix:20240906T153000
DTEND;TZID=America/Phoenix:20240906T163000
DTSTAMP:20260420T075008
CREATED:20240812T224313Z
LAST-MODIFIED:20250805T183741Z
UID:10004277-1725636600-1725640200@lemanacademy.com
SUMMARY:Flag Football Practice
DESCRIPTION:Flag football practice with Coach Young (520 227 2865) atÂ Cyr Soccer Complex West Field.
URL:https://lemanacademy.com/event/flag-football-practice-11/
LOCATION:Cyr Soccer Complex\, West Field
CATEGORIES:Sierra Vista (K-8)
END:VEVENT
BEGIN:VEVENT
DTSTART;TZID=America/Phoenix:20240906T153000
DTEND;TZID=America/Phoenix:20240906T170000
DTSTAMP:20260420T075008
CREATED:20240806T184542Z
LAST-MODIFIED:20250701T182142Z
UID:10004080-1725636600-1725642000@lemanacademy.com
SUMMARY:Coach Bam's Basketball Academy
DESCRIPTION:https://mcusercontent.com/596d413c63c45f22489098f4f/files/7d46643e-b408-3c2a-c549-7be5fd8fa30c/COACH_BAM_039_S_BASKETBALL_ACADEMY_1_.pdf
URL:https://lemanacademy.com/event/coach-bams-basketball-academy-4/
LOCATION:AZ
CATEGORIES:Marana (K-8)
END:VEVENT
BEGIN:VEVENT
DTSTART;TZID=America/Phoenix:20240906T153000
DTEND;TZID=America/Phoenix:20240906T170000
DTSTAMP:20260420T075008
CREATED:20240812T224312Z
LAST-MODIFIED:20250805T183741Z
UID:10004276-1725636600-1725642000@lemanacademy.com
SUMMARY:Volleyball Practice
DESCRIPTION:Volleyball practice with Coach Jensen in the gym.
URL:https://lemanacademy.com/event/volleyball-practice-18/
LOCATION:AZ
CATEGORIES:Sierra Vista (K-8)
END:VEVENT
BEGIN:VEVENT
DTSTART;TZID=America/Phoenix:20240906T160000
DTEND;TZID=America/Phoenix:20240906T170000
DTSTAMP:20260420T075008
CREATED:20240824T000110Z
LAST-MODIFIED:20260331T235414Z
UID:10004648-1725638400-1725642000@lemanacademy.com
SUMMARY:Girls Volleyball: Desert Christian vs. East (A Team)
DESCRIPTION:A Team @ 4 pm\, B Team @ 5 pm
URL:https://lemanacademy.com/event/girls-volleyball-desert-christian-vs-east-a-team/
LOCATION:AZ
CATEGORIES:East Tucson (K-8)
END:VEVENT
BEGIN:VEVENT
DTSTART;TZID=America/Phoenix:20240906T170000
DTEND;TZID=America/Phoenix:20240906T180000
DTSTAMP:20260420T075008
CREATED:20240824T000109Z
LAST-MODIFIED:20260331T235418Z
UID:10004647-1725642000-1725645600@lemanacademy.com
SUMMARY:Girls Volleyball: Desert Christian vs. East (B Team)
DESCRIPTION:A Team @ 4 pm\, B Team @ 5 pm
URL:https://lemanacademy.com/event/girls-volleyball-desert-christian-vs-east-b-team/
LOCATION:AZ
CATEGORIES:East Tucson (K-8)
END:VEVENT
BEGIN:VEVENT
DTSTART;VALUE=DATE:20240909
DTEND;VALUE=DATE:20240910
DTSTAMP:20260420T075008
CREATED:20240530T031554Z
LAST-MODIFIED:20251203T233447Z
UID:10003041-1725840000-1725926399@lemanacademy.com
SUMMARY:Green Day K-4th grade
DESCRIPTION:
URL:https://lemanacademy.com/event/green-day-k-4th-grade-24/
LOCATION:AZ
CATEGORIES:Parker-Stroh (K-8)
END:VEVENT
BEGIN:VEVENT
DTSTART;VALUE=DATE:20240909
DTEND;VALUE=DATE:20240910
DTSTAMP:20260420T075008
CREATED:20240530T031557Z
LAST-MODIFIED:20251203T233501Z
UID:10003044-1725840000-1725926399@lemanacademy.com
SUMMARY:White Day 5th-8th grade
DESCRIPTION:
URL:https://lemanacademy.com/event/white-day-5th-8th-grade-63/
LOCATION:AZ
CATEGORIES:Parker-Stroh (K-8)
END:VEVENT
BEGIN:VEVENT
DTSTART;VALUE=DATE:20240909
DTEND;VALUE=DATE:20240910
DTSTAMP:20260420T075008
CREATED:20240816T191839Z
LAST-MODIFIED:20251021T204137Z
UID:10004373-1725840000-1725926399@lemanacademy.com
SUMMARY:Green Day
DESCRIPTION:
URL:https://lemanacademy.com/event/green-day-3/
LOCATION:AZ
CATEGORIES:Parker-Bayou Gulch (K-8)
END:VEVENT
BEGIN:VEVENT
DTSTART;VALUE=DATE:20240909
DTEND;VALUE=DATE:20240910
DTSTAMP:20260420T075008
CREATED:20240904T200547Z
LAST-MODIFIED:20251021T204137Z
UID:10004710-1725840000-1725926399@lemanacademy.com
SUMMARY:First day of school Kindergarten thru Second grade
DESCRIPTION:
URL:https://lemanacademy.com/event/first-day-of-school-kindergarten-thru-second-grade/
LOCATION:Journey Church Colorado\, 9009 N Clydesdale Rd\, Parker\, CO\, United States
CATEGORIES:Parker-Bayou Gulch (K-8)
GEO:39.492722;-104.874211
X-APPLE-STRUCTURED-LOCATION;VALUE=URI;X-ADDRESS=Journey Church Colorado 9009 N Clydesdale Rd Parker CO United States;X-APPLE-RADIUS=500;X-TITLE=9009 N Clydesdale Rd:geo:-104.874211,39.492722
END:VEVENT
BEGIN:VEVENT
DTSTART;TZID=America/Phoenix:20240909T070000
DTEND;TZID=America/Phoenix:20240909T080000
DTSTAMP:20260420T075008
CREATED:20240806T184542Z
LAST-MODIFIED:20250701T182142Z
UID:10004081-1725865200-1725868800@lemanacademy.com
SUMMARY:Chess Club
DESCRIPTION:https://mcusercontent.com/596d413c63c45f22489098f4f/files/0bdab9b0-152e-93e5-2839-d9cf5b3a1fcd/Leman_Fall_2024.pdf
URL:https://lemanacademy.com/event/chess-club-8/
LOCATION:AZ
CATEGORIES:Marana (K-8)
END:VEVENT
BEGIN:VEVENT
DTSTART;TZID=America/Phoenix:20240909T150000
DTEND;TZID=America/Phoenix:20240909T160000
DTSTAMP:20260420T075008
CREATED:20240805T222655Z
LAST-MODIFIED:20260219T072924Z
UID:10003919-1725894000-1725897600@lemanacademy.com
SUMMARY:Drama After School Club
DESCRIPTION:https://mcusercontent.com/596d413c63c45f22489098f4f/files/d72e3c72-699c-82d8-6280-b598873ed1ca/Drama_Kids_Flyer_Fall_2024_.pdf
URL:https://lemanacademy.com/event/drama-after-school-club-4/
LOCATION:AZ
CATEGORIES:Oro Valley (K-8)
END:VEVENT
BEGIN:VEVENT
DTSTART;TZID=America/Phoenix:20240909T150500
DTEND;TZID=America/Phoenix:20240909T160500
DTSTAMP:20260420T075008
CREATED:20240806T001258Z
LAST-MODIFIED:20260419T195424Z
UID:10003977-1725894300-1725897900@lemanacademy.com
SUMMARY:SATKO Martial Arts After School Club
DESCRIPTION:https://mcusercontent.com/596d413c63c45f22489098f4f/images/b750f666-71b1-cab2-7edb-081ef2385638.png \nhttps://www.satkomartialarts.com/general-5
URL:https://lemanacademy.com/event/satko-martial-arts-after-school-club-2/
LOCATION:AZ
CATEGORIES:Central Tucson (K-8)
END:VEVENT
BEGIN:VEVENT
DTSTART;TZID=America/Phoenix:20240909T151000
DTEND;TZID=America/Phoenix:20240909T161000
DTSTAMP:20260420T075008
CREATED:20240805T222655Z
LAST-MODIFIED:20260219T072924Z
UID:10003918-1725894600-1725898200@lemanacademy.com
SUMMARY:Lego After School Club
DESCRIPTION:https://mcusercontent.com/596d413c63c45f22489098f4f/files/ffe35489-b931-7937-e94a-84b4c06e1bd2/Lego_Club_Registration_Fall.pdf
URL:https://lemanacademy.com/event/lego-after-school-club-4/
LOCATION:AZ
CATEGORIES:Oro Valley (K-8)
END:VEVENT
BEGIN:VEVENT
DTSTART;TZID=America/Phoenix:20240909T151500
DTEND;TZID=America/Phoenix:20240909T163000
DTSTAMP:20260420T075008
CREATED:20240806T184542Z
LAST-MODIFIED:20250701T182143Z
UID:10004082-1725894900-1725899400@lemanacademy.com
SUMMARY:Lego After School Club
DESCRIPTION:https://mcusercontent.com/596d413c63c45f22489098f4f/files/071ea067-1eda-e919-0083-039ca2ddbfe8/Leman_Marana_Fall_24.pdf
URL:https://lemanacademy.com/event/lego-after-school-club-38/
LOCATION:AZ
CATEGORIES:Marana (K-8)
END:VEVENT
BEGIN:VEVENT
DTSTART;TZID=America/Phoenix:20240909T153000
DTEND;TZID=America/Phoenix:20240909T163000
DTSTAMP:20260420T075008
CREATED:20240812T224313Z
LAST-MODIFIED:20250805T183742Z
UID:10004278-1725895800-1725899400@lemanacademy.com
SUMMARY:Cross Country Practice
DESCRIPTION:Cross country practice with Coach Tracey (520 508 6639) atÂ Keith Hampton Memorial football field/track complex.
URL:https://lemanacademy.com/event/cross-country-practice-13/
LOCATION:Keith Hampton Memorial Football Field/Track Complex
CATEGORIES:Sierra Vista (K-8)
END:VEVENT
BEGIN:VEVENT
DTSTART;TZID=America/Phoenix:20240909T153000
DTEND;TZID=America/Phoenix:20240909T163000
DTSTAMP:20260420T075008
CREATED:20240812T224336Z
LAST-MODIFIED:20250805T183747Z
UID:10004280-1725895800-1725899400@lemanacademy.com
SUMMARY:Flag Football Practice
DESCRIPTION:Flag football practice with Coach Young (520 227 2865) atÂ Cyr Soccer Complex West Field.
URL:https://lemanacademy.com/event/flag-football-practice-12/
LOCATION:Cyr Soccer Complex\, West Field
CATEGORIES:Sierra Vista (K-8)
END:VEVENT
BEGIN:VEVENT
DTSTART;TZID=America/Phoenix:20240909T153000
DTEND;TZID=America/Phoenix:20240909T170000
DTSTAMP:20260420T075008
CREATED:20240812T224335Z
LAST-MODIFIED:20250805T183747Z
UID:10004279-1725895800-1725901200@lemanacademy.com
SUMMARY:Volleyball Practice
DESCRIPTION:Volleyball practice with Coach Jensen in the gym.
URL:https://lemanacademy.com/event/volleyball-practice-19/
LOCATION:AZ
CATEGORIES:Sierra Vista (K-8)
END:VEVENT
BEGIN:VEVENT
DTSTART;TZID=America/Denver:20240909T154500
DTEND;TZID=America/Denver:20240909T161500
DTSTAMP:20260420T075008
CREATED:20240807T025610Z
LAST-MODIFIED:20251203T233446Z
UID:10004128-1725896700-1725898500@lemanacademy.com
SUMMARY:School Tour Stroh
DESCRIPTION:Join with Google Meet: https://meet.google.com/vfc-jyur-hcr\nOr dial: (US) +1 661-622-3150 PIN: 470756563#\nMore phone numbers: https://tel.meet/vfc-jyur-hcr?pin=5094709165285&hs=7\nLearn more about Meet at: https://support.google.com/a/users/answer/9282720
URL:https://lemanacademy.com/event/school-tour-24/
LOCATION:AZ
CATEGORIES:Parker-Stroh (K-8)
END:VEVENT
BEGIN:VEVENT
DTSTART;TZID=America/Phoenix:20240909T160000
DTEND;TZID=America/Phoenix:20240909T170000
DTSTAMP:20260420T075008
CREATED:20240814T201354Z
LAST-MODIFIED:20250701T182143Z
UID:10004326-1725897600-1725901200@lemanacademy.com
SUMMARY:Flag Football A Team AWAY @ The Gregory School
DESCRIPTION:
URL:https://lemanacademy.com/event/flag-football-a-team-away-the-gregory-school/
LOCATION:AZ
CATEGORIES:Marana (K-8)
END:VEVENT
BEGIN:VEVENT
DTSTART;TZID=America/Phoenix:20240909T160000
DTEND;TZID=America/Phoenix:20240909T170000
DTSTAMP:20260420T075008
CREATED:20240820T221550Z
LAST-MODIFIED:20260219T072924Z
UID:10004590-1725897600-1725901200@lemanacademy.com
SUMMARY:Flag Football @Pusch Ridge (B-team Only)
DESCRIPTION:B-team @4
URL:https://lemanacademy.com/event/flag-football-pusch-ridge-b-team-only/
LOCATION:Pusch Ridge Christian Academy\, 4901 N Oracle Rd\, Tucson\, AZ\, United States
CATEGORIES:Oro Valley (K-8)
GEO:32.294567;-110.978271
X-APPLE-STRUCTURED-LOCATION;VALUE=URI;X-ADDRESS=Pusch Ridge Christian Academy 4901 N Oracle Rd Tucson AZ United States;X-APPLE-RADIUS=500;X-TITLE=4901 N Oracle Rd:geo:-110.978271,32.294567
END:VEVENT
BEGIN:VEVENT
DTSTART;TZID=America/Phoenix:20240909T160000
DTEND;TZID=America/Phoenix:20240909T170000
DTSTAMP:20260420T075008
CREATED:20240821T002951Z
LAST-MODIFIED:20260419T195424Z
UID:10004610-1725897600-1725901200@lemanacademy.com
SUMMARY:Flag FB A Team Vs Casas Christian
DESCRIPTION:
URL:https://lemanacademy.com/event/flag-fb-a-team-vs-casas-christian/
LOCATION:350 N Cloverland Ave\, Tucson\, AZ\, United States
CATEGORIES:Central Tucson (K-8)
GEO:32.214075;-110.883744
END:VEVENT
END:VCALENDAR