BEGIN:VCALENDAR
VERSION:2.0
PRODID:-//Leman Academy of Excellence - ECPv6.15.20//NONSGML v1.0//EN
CALSCALE:GREGORIAN
METHOD:PUBLISH
X-ORIGINAL-URL:https://lemanacademy.com
X-WR-CALDESC:Events for Leman Academy of Excellence
REFRESH-INTERVAL;VALUE=DURATION:PT1H
X-Robots-Tag:noindex
X-PUBLISHED-TTL:PT1H
BEGIN:VTIMEZONE
TZID:America/Denver
BEGIN:DAYLIGHT
TZOFFSETFROM:-0700
TZOFFSETTO:-0600
TZNAME:MDT
DTSTART:20230312T090000
END:DAYLIGHT
BEGIN:STANDARD
TZOFFSETFROM:-0600
TZOFFSETTO:-0700
TZNAME:MST
DTSTART:20231105T080000
END:STANDARD
BEGIN:DAYLIGHT
TZOFFSETFROM:-0700
TZOFFSETTO:-0600
TZNAME:MDT
DTSTART:20240310T090000
END:DAYLIGHT
BEGIN:STANDARD
TZOFFSETFROM:-0600
TZOFFSETTO:-0700
TZNAME:MST
DTSTART:20241103T080000
END:STANDARD
BEGIN:DAYLIGHT
TZOFFSETFROM:-0700
TZOFFSETTO:-0600
TZNAME:MDT
DTSTART:20250309T090000
END:DAYLIGHT
BEGIN:STANDARD
TZOFFSETFROM:-0600
TZOFFSETTO:-0700
TZNAME:MST
DTSTART:20251102T080000
END:STANDARD
END:VTIMEZONE
BEGIN:VTIMEZONE
TZID:America/Phoenix
BEGIN:STANDARD
TZOFFSETFROM:-0700
TZOFFSETTO:-0700
TZNAME:MST
DTSTART:20230101T000000
END:STANDARD
END:VTIMEZONE
BEGIN:VEVENT
DTSTART;TZID=America/Denver:20241218T153500
DTEND;TZID=America/Denver:20241218T160500
DTSTAMP:20260419T133748
CREATED:20241213T000844Z
LAST-MODIFIED:20251203T234532Z
UID:10006316-1734536100-1734537900@lemanacademy.com
SUMMARY:Girls Basketball Meeting
DESCRIPTION:
URL:https://lemanacademy.com/event/girls-basketball-meeting/
LOCATION:Stroh Gym
CATEGORIES:Parker-Stroh (K-8)
END:VEVENT
BEGIN:VEVENT
DTSTART;TZID=America/Phoenix:20241218T160000
DTEND;TZID=America/Phoenix:20241218T170000
DTSTAMP:20260419T133748
CREATED:20241105T200507Z
LAST-MODIFIED:20250701T185148Z
UID:10006037-1734537600-1734541200@lemanacademy.com
SUMMARY:Soccer A Team AWAY @ St. Michaels
DESCRIPTION:
URL:https://lemanacademy.com/event/soccer-a-team-away-st-michaels/
CATEGORIES:Marana (K-8)
END:VEVENT
BEGIN:VEVENT
DTSTART;TZID=America/Phoenix:20241218T160000
DTEND;TZID=America/Phoenix:20241218T170000
DTSTAMP:20260419T133748
CREATED:20241105T200507Z
LAST-MODIFIED:20250701T185156Z
UID:10006038-1734537600-1734541200@lemanacademy.com
SUMMARY:Soccer B Team HOME vs. St. Michaels
DESCRIPTION:
URL:https://lemanacademy.com/event/soccer-b-team-home-vs-st-michaels/
CATEGORIES:Marana (K-8)
END:VEVENT
BEGIN:VEVENT
DTSTART;TZID=America/Phoenix:20241218T160000
DTEND;TZID=America/Phoenix:20241218T170000
DTSTAMP:20260419T133748
CREATED:20241113T235054Z
LAST-MODIFIED:20260331T235643Z
UID:10006194-1734537600-1734541200@lemanacademy.com
SUMMARY:Soccer-Tucson Country Day School @ Leman East A Team
DESCRIPTION: at Jesse Owens Park at 4 pm. A team only. Leman East @ Tucson Country Day School at TCDS at 4 pm. B team only.
URL:https://lemanacademy.com/event/soccer-tucson-country-day-school-leman-east-at-jesse-owens-park-at-4-pm-a-team-only-leman-east-tucson-country-day-school-at-tcds-at-4-pm-b-team-only/
LOCATION:Jesse Owens Park\, 400 S Sarnoff Dr\, Tucson\, AZ\, United States
CATEGORIES:East Tucson (K-8)
GEO:32.216684;-110.814901
X-APPLE-STRUCTURED-LOCATION;VALUE=URI;X-ADDRESS=Jesse Owens Park 400 S Sarnoff Dr Tucson AZ United States;X-APPLE-RADIUS=500;X-TITLE=400 S Sarnoff Dr:geo:-110.814901,32.216684
END:VEVENT
BEGIN:VEVENT
DTSTART;TZID=America/Phoenix:20241218T160000
DTEND;TZID=America/Phoenix:20241218T170000
DTSTAMP:20260419T133748
CREATED:20241122T221545Z
LAST-MODIFIED:20260331T235643Z
UID:10006248-1734537600-1734541200@lemanacademy.com
SUMMARY:Soccer-Leman East vs. Tucson Country Day School B Team
DESCRIPTION: at Jesse Owens Park at 4 pm. A team only. Leman East @ Tucson Country Day School at TCDS at 4 pm. B team only.
URL:https://lemanacademy.com/event/soccer-leman-east-vs-tucson-country-day-school-b-team/
CATEGORIES:East Tucson (K-8)
END:VEVENT
BEGIN:VEVENT
DTSTART;TZID=America/Phoenix:20241218T160000
DTEND;TZID=America/Phoenix:20241218T170000
DTSTAMP:20260419T133748
CREATED:20241211T204046Z
LAST-MODIFIED:20260219T073519Z
UID:10006314-1734537600-1734541200@lemanacademy.com
SUMMARY:Softball Away @Basis OV- Cancelled
DESCRIPTION:
URL:https://lemanacademy.com/event/softball-away-basis-ov-cancelled/
CATEGORIES:Oro Valley (K-8)
END:VEVENT
BEGIN:VEVENT
DTSTART;TZID=America/Phoenix:20241218T160000
DTEND;TZID=America/Phoenix:20241218T170000
DTSTAMP:20260419T133748
CREATED:20241213T155548Z
LAST-MODIFIED:20260419T165347Z
UID:10006322-1734537600-1734541200@lemanacademy.com
SUMMARY:Information Night: New Families
DESCRIPTION:
URL:https://lemanacademy.com/event/information-session-new-families/
CATEGORIES:Mesa (K-8)
END:VEVENT
BEGIN:VEVENT
DTSTART;TZID=America/Phoenix:20241218T170000
DTEND;TZID=America/Phoenix:20241218T180000
DTSTAMP:20260419T133748
CREATED:20241122T222923Z
LAST-MODIFIED:20260331T235641Z
UID:10006278-1734541200-1734544800@lemanacademy.com
SUMMARY:Preschool Winter Recital
DESCRIPTION:
URL:https://lemanacademy.com/event/preschool-winter-recital/
CATEGORIES:East Tucson (K-8)
END:VEVENT
BEGIN:VEVENT
DTSTART;TZID=America/Phoenix:20241218T170000
DTEND;TZID=America/Phoenix:20241218T183000
DTSTAMP:20260419T133748
CREATED:20241105T200508Z
LAST-MODIFIED:20250701T185148Z
UID:10006039-1734541200-1734546600@lemanacademy.com
SUMMARY:Talent Show
DESCRIPTION:Join with Google Meet: https://meet.google.com/pmp-bajh-wub\nOr dial: (US) +1 662-642-0218 PIN: 496199153#\nLearn more about Meet at: https://support.google.com/a/users/answer/9282720
URL:https://lemanacademy.com/event/talent-show-2/
CATEGORIES:Marana (K-8)
END:VEVENT
BEGIN:VEVENT
DTSTART;VALUE=DATE:20241219
DTEND;VALUE=DATE:20241220
DTSTAMP:20260419T133748
CREATED:20240617T211529Z
LAST-MODIFIED:20250805T183914Z
UID:10003730-1734566400-1734652799@lemanacademy.com
SUMMARY:Early Release Day
DESCRIPTION:
URL:https://lemanacademy.com/event/early-release-day-221/
CATEGORIES:Sierra Vista (K-8)
END:VEVENT
BEGIN:VEVENT
DTSTART;VALUE=DATE:20241219
DTEND;VALUE=DATE:20241220
DTSTAMP:20260419T133748
CREATED:20240720T021207Z
LAST-MODIFIED:20260419T165348Z
UID:10003848-1734566400-1734652799@lemanacademy.com
SUMMARY:Early Release Day
DESCRIPTION:
URL:https://lemanacademy.com/event/early-release-day-256/
CATEGORIES:Mesa (K-8)
END:VEVENT
BEGIN:VEVENT
DTSTART;VALUE=DATE:20241219
DTEND;VALUE=DATE:20241220
DTSTAMP:20260419T133748
CREATED:20240816T192056Z
LAST-MODIFIED:20251021T204233Z
UID:10004447-1734566400-1734652799@lemanacademy.com
SUMMARY:Blue Day
DESCRIPTION:
URL:https://lemanacademy.com/event/blue-day-23/
CATEGORIES:Parker-Bayou Gulch (K-8)
END:VEVENT
BEGIN:VEVENT
DTSTART;VALUE=DATE:20241219
DTEND;VALUE=DATE:20241220
DTSTAMP:20260419T133748
CREATED:20241024T031736Z
LAST-MODIFIED:20251203T234549Z
UID:10005019-1734566400-1734652799@lemanacademy.com
SUMMARY:Blue Day K-4th grade
DESCRIPTION:
URL:https://lemanacademy.com/event/blue-day-k-4th-grade-60/
CATEGORIES:Parker-Stroh (K-8)
END:VEVENT
BEGIN:VEVENT
DTSTART;VALUE=DATE:20241219
DTEND;VALUE=DATE:20241220
DTSTAMP:20260419T133748
CREATED:20241024T031743Z
LAST-MODIFIED:20251203T234535Z
UID:10005024-1734566400-1734652799@lemanacademy.com
SUMMARY:Blue Day 5th-8th grade
DESCRIPTION:
URL:https://lemanacademy.com/event/blue-day-5th-8th-grade-82/
CATEGORIES:Parker-Stroh (K-8)
END:VEVENT
BEGIN:VEVENT
DTSTART;VALUE=DATE:20241219
DTEND;VALUE=DATE:20241220
DTSTAMP:20260419T133748
CREATED:20241207T163259Z
LAST-MODIFIED:20260219T073519Z
UID:10006307-1734566400-1734652799@lemanacademy.com
SUMMARY:Ugly or Favorite Holiday Sweater Day
DESCRIPTION:
URL:https://lemanacademy.com/event/ugly-or-favorite-holiday-sweater-day/
CATEGORIES:Oro Valley (K-8)
END:VEVENT
BEGIN:VEVENT
DTSTART;VALUE=DATE:20241219
DTEND;VALUE=DATE:20241220
DTSTAMP:20260419T133748
CREATED:20241213T155548Z
LAST-MODIFIED:20260419T165348Z
UID:10006324-1734566400-1734652799@lemanacademy.com
SUMMARY:Shine Bright Light a Christmas Light Day: Light up your outfit with bright Christmas colors or holiday lights. Wear light up necklaces\, head gear\, earrings\, tinsel\, etc.
DESCRIPTION:
URL:https://lemanacademy.com/event/shine-bright-light-a-christmas-light-day-light-up-your-outfit-with-bright-christmas-colors-or-holiday-lights-wear-light-up-necklaces-head-gear-earrings-tinsel-etc/
CATEGORIES:Mesa (K-8)
END:VEVENT
BEGIN:VEVENT
DTSTART;TZID=America/Denver:20241219T080000
DTEND;TZID=America/Denver:20241219T090000
DTSTAMP:20260419T133748
CREATED:20241213T000902Z
LAST-MODIFIED:20251203T234534Z
UID:10006317-1734595200-1734598800@lemanacademy.com
SUMMARY:SAC Meeting
DESCRIPTION:
URL:https://lemanacademy.com/event/sac-meeting/
CATEGORIES:Parker-Stroh (K-8)
END:VEVENT
BEGIN:VEVENT
DTSTART;TZID=America/Denver:20241219T080000
DTEND;TZID=America/Denver:20241219T090000
DTSTAMP:20260419T133748
CREATED:20241213T211538Z
LAST-MODIFIED:20251021T204233Z
UID:10006325-1734595200-1734598800@lemanacademy.com
SUMMARY:SAC Meeting
DESCRIPTION:
URL:https://lemanacademy.com/event/sac-meeting-2/
CATEGORIES:Parker-Bayou Gulch (K-8)
END:VEVENT
BEGIN:VEVENT
DTSTART;TZID=America/Phoenix:20241219T090000
DTEND;TZID=America/Phoenix:20241219T100000
DTSTAMP:20260419T133748
CREATED:20241204T170225Z
LAST-MODIFIED:20260219T073527Z
UID:10006296-1734598800-1734602400@lemanacademy.com
SUMMARY:Campus Tour
DESCRIPTION:
URL:https://lemanacademy.com/event/campus-tour-179/
CATEGORIES:Oro Valley (K-8)
END:VEVENT
BEGIN:VEVENT
DTSTART;TZID=America/Phoenix:20241219T150500
DTEND;TZID=America/Phoenix:20241219T160500
DTSTAMP:20260419T133748
CREATED:20241025T010324Z
LAST-MODIFIED:20260219T073527Z
UID:10005375-1734620700-1734624300@lemanacademy.com
SUMMARY:Art Club After School
DESCRIPTION:
URL:https://lemanacademy.com/event/art-club-after-school-18/
CATEGORIES:Oro Valley (K-8)
END:VEVENT
BEGIN:VEVENT
DTSTART;TZID=America/Denver:20241219T153000
DTEND;TZID=America/Denver:20241219T163000
DTSTAMP:20260419T133748
CREATED:20241024T031741Z
LAST-MODIFIED:20251203T234535Z
UID:10005021-1734622200-1734625800@lemanacademy.com
SUMMARY:Robotics Club
DESCRIPTION:
URL:https://lemanacademy.com/event/robotics-club-14/
LOCATION:Rm B111
CATEGORIES:Parker-Stroh (K-8)
END:VEVENT
BEGIN:VEVENT
DTSTART;TZID=America/Phoenix:20241219T160000
DTEND;TZID=America/Phoenix:20241219T170000
DTSTAMP:20260419T133748
CREATED:20241105T200509Z
LAST-MODIFIED:20250701T185157Z
UID:10006040-1734624000-1734627600@lemanacademy.com
SUMMARY:Soccer A Team HOME vs. LAE Central
DESCRIPTION:
URL:https://lemanacademy.com/event/soccer-a-team-home-vs-lae-central/
CATEGORIES:Marana (K-8)
END:VEVENT
BEGIN:VEVENT
DTSTART;TZID=America/Phoenix:20241219T160000
DTEND;TZID=America/Phoenix:20241219T170000
DTSTAMP:20260419T133748
CREATED:20241105T200516Z
LAST-MODIFIED:20250701T185157Z
UID:10006041-1734624000-1734627600@lemanacademy.com
SUMMARY:Soccer B Team HOME vs. LAE Central
DESCRIPTION:
URL:https://lemanacademy.com/event/soccer-b-team-home-vs-lae-central/
CATEGORIES:Marana (K-8)
END:VEVENT
BEGIN:VEVENT
DTSTART;TZID=America/Phoenix:20241219T160000
DTEND;TZID=America/Phoenix:20241219T170000
DTSTAMP:20260419T133748
CREATED:20241106T121028Z
LAST-MODIFIED:20260419T195714Z
UID:10006061-1734624000-1734627600@lemanacademy.com
SUMMARY:Soccer A team @ Leman Marana
DESCRIPTION:
URL:https://lemanacademy.com/event/soccer-a-team-leman-marana-2/
LOCATION:7548 N Silverbell Rd\, Tucson\, AZ\, United States
CATEGORIES:Central Tucson (K-8)
GEO:32.333438;-111.065869
END:VEVENT
BEGIN:VEVENT
DTSTART;TZID=America/Phoenix:20241219T160000
DTEND;TZID=America/Phoenix:20241219T170000
DTSTAMP:20260419T133748
CREATED:20241115T122934Z
LAST-MODIFIED:20260419T195714Z
UID:10006222-1734624000-1734627600@lemanacademy.com
SUMMARY:Soccer B team @ Leman Marana
DESCRIPTION:
URL:https://lemanacademy.com/event/soccer-b-team-leman-marana-2/
LOCATION:7548 N Silverbell Rd\, Tucson\, AZ\, United States
CATEGORIES:Central Tucson (K-8)
GEO:32.333438;-111.065869
END:VEVENT
BEGIN:VEVENT
DTSTART;TZID=America/Phoenix:20241219T170000
DTEND;TZID=America/Phoenix:20241219T180000
DTSTAMP:20260419T133748
CREATED:20241013T153213Z
LAST-MODIFIED:20260419T195714Z
UID:10004874-1734627600-1734631200@lemanacademy.com
SUMMARY:Preschool Winter Program
DESCRIPTION:Cafeteria
URL:https://lemanacademy.com/event/preschool-winter-program/
CATEGORIES:Central Tucson (K-8)
END:VEVENT
BEGIN:VEVENT
DTSTART;VALUE=DATE:20241220
DTEND;VALUE=DATE:20241221
DTSTAMP:20260419T133748
CREATED:20231101T185233Z
LAST-MODIFIED:20251021T204233Z
UID:10001454-1734652800-1734739199@lemanacademy.com
SUMMARY:Early Dismissal K-6th grade (BG)
DESCRIPTION:
URL:https://lemanacademy.com/event/early-dismissal-k-6th-grade-bg/
CATEGORIES:Parker-Bayou Gulch (K-8)
END:VEVENT
BEGIN:VEVENT
DTSTART;VALUE=DATE:20241220
DTEND;VALUE=DATE:20241221
DTSTAMP:20260419T133748
CREATED:20231101T185234Z
LAST-MODIFIED:20251021T204233Z
UID:10001455-1734652800-1734739199@lemanacademy.com
SUMMARY:End of Second Quarter
DESCRIPTION:
URL:https://lemanacademy.com/event/end-of-second-quarter-2/
CATEGORIES:Parker-Bayou Gulch (K-8)
END:VEVENT
BEGIN:VEVENT
DTSTART;VALUE=DATE:20241220
DTEND;VALUE=DATE:20241221
DTSTAMP:20260419T133748
CREATED:20240617T211530Z
LAST-MODIFIED:20250805T183914Z
UID:10003731-1734652800-1734739199@lemanacademy.com
SUMMARY:End of Qtr. 2 - Half Day Release
DESCRIPTION:
URL:https://lemanacademy.com/event/end-of-qtr-2-half-day-release/
CATEGORIES:Sierra Vista (K-8)
END:VEVENT
BEGIN:VEVENT
DTSTART;VALUE=DATE:20241220
DTEND;VALUE=DATE:20241221
DTSTAMP:20260419T133748
CREATED:20240710T233747Z
LAST-MODIFIED:20260419T165347Z
UID:10003792-1734652800-1734739199@lemanacademy.com
SUMMARY:End of Qtr 2 - Half Day Dismissal
DESCRIPTION:
URL:https://lemanacademy.com/event/end-of-qtr-2-half-day-dismissal/
CATEGORIES:Mesa (K-8)
END:VEVENT
END:VCALENDAR