BEGIN:VCALENDAR
VERSION:2.0
PRODID:-//Leman Academy of Excellence - ECPv6.15.20//NONSGML v1.0//EN
CALSCALE:GREGORIAN
METHOD:PUBLISH
X-WR-CALNAME:Leman Academy of Excellence
X-ORIGINAL-URL:https://lemanacademy.com
X-WR-CALDESC:Events for Leman Academy of Excellence
REFRESH-INTERVAL;VALUE=DURATION:PT1H
X-Robots-Tag:noindex
X-PUBLISHED-TTL:PT1H
BEGIN:VTIMEZONE
TZID:America/Denver
BEGIN:DAYLIGHT
TZOFFSETFROM:-0700
TZOFFSETTO:-0600
TZNAME:MDT
DTSTART:20220313T090000
END:DAYLIGHT
BEGIN:STANDARD
TZOFFSETFROM:-0600
TZOFFSETTO:-0700
TZNAME:MST
DTSTART:20221106T080000
END:STANDARD
BEGIN:DAYLIGHT
TZOFFSETFROM:-0700
TZOFFSETTO:-0600
TZNAME:MDT
DTSTART:20230312T090000
END:DAYLIGHT
BEGIN:STANDARD
TZOFFSETFROM:-0600
TZOFFSETTO:-0700
TZNAME:MST
DTSTART:20231105T080000
END:STANDARD
BEGIN:DAYLIGHT
TZOFFSETFROM:-0700
TZOFFSETTO:-0600
TZNAME:MDT
DTSTART:20240310T090000
END:DAYLIGHT
BEGIN:STANDARD
TZOFFSETFROM:-0600
TZOFFSETTO:-0700
TZNAME:MST
DTSTART:20241103T080000
END:STANDARD
END:VTIMEZONE
BEGIN:VTIMEZONE
TZID:America/Phoenix
BEGIN:STANDARD
TZOFFSETFROM:-0700
TZOFFSETTO:-0700
TZNAME:MST
DTSTART:20220101T000000
END:STANDARD
END:VTIMEZONE
BEGIN:VTIMEZONE
TZID:America/New_York
BEGIN:DAYLIGHT
TZOFFSETFROM:-0500
TZOFFSETTO:-0400
TZNAME:EDT
DTSTART:20220313T070000
END:DAYLIGHT
BEGIN:STANDARD
TZOFFSETFROM:-0400
TZOFFSETTO:-0500
TZNAME:EST
DTSTART:20221106T060000
END:STANDARD
BEGIN:DAYLIGHT
TZOFFSETFROM:-0500
TZOFFSETTO:-0400
TZNAME:EDT
DTSTART:20230312T070000
END:DAYLIGHT
BEGIN:STANDARD
TZOFFSETFROM:-0400
TZOFFSETTO:-0500
TZNAME:EST
DTSTART:20231105T060000
END:STANDARD
BEGIN:DAYLIGHT
TZOFFSETFROM:-0500
TZOFFSETTO:-0400
TZNAME:EDT
DTSTART:20240310T070000
END:DAYLIGHT
BEGIN:STANDARD
TZOFFSETFROM:-0400
TZOFFSETTO:-0500
TZNAME:EST
DTSTART:20241103T060000
END:STANDARD
END:VTIMEZONE
BEGIN:VEVENT
DTSTART;TZID=America/Denver:20231215T080000
DTEND;TZID=America/Denver:20231215T083000
DTSTAMP:20260425T175157
CREATED:20231128T011940Z
LAST-MODIFIED:20231211T231310Z
UID:10001578-1702627200-1702629000@lemanacademy.com
SUMMARY:House of Truth Assembly (7th and 3rd grade- wear WHITE)
DESCRIPTION:Join with Google Meet: https://meet.google.com/psy-qzij-ebq\nOr dial: (US) +1 224-513-0211 PIN: 235052675#\nLearn more about Meet at: https://support.google.com/a/users/answer/9282720
URL:https://lemanacademy.com/event/house-of-truth-assembly-7th-and-3rd-grade-wear-white/
LOCATION:AZ
CATEGORIES:Parker-Stroh (K-8)
END:VEVENT
BEGIN:VEVENT
DTSTART;TZID=America/Denver:20231215T080000
DTEND;TZID=America/Denver:20231215T083000
DTSTAMP:20260425T175157
CREATED:20231128T011940Z
LAST-MODIFIED:20240617T063243Z
UID:10001579-1702627200-1702629000@lemanacademy.com
SUMMARY:House of Truth Assembly (7th and 3rd grade- wear WHITE)
DESCRIPTION:Join with Google Meet: https://meet.google.com/psy-qzij-ebq\nOr dial: (US) +1 224-513-0211 PIN: 235052675#\nLearn more about Meet at: https://support.google.com/a/users/answer/9282720
URL:https://lemanacademy.com/event/house-of-truth-assembly-7th-and-3rd-grade-wear-white-2/
LOCATION:AZ
CATEGORIES:Parker-Stroh (K-8)
END:VEVENT
BEGIN:VEVENT
DTSTART;TZID=America/Phoenix:20231215T083000
DTEND;TZID=America/Phoenix:20231215T093000
DTSTAMP:20260425T175157
CREATED:20231205T233622Z
LAST-MODIFIED:20241023T235838Z
UID:10001818-1702629000-1702632600@lemanacademy.com
SUMMARY:E Section 5-8 Showcase
DESCRIPTION:Join with Google Meet: https://meet.google.com/vns-gvip-rty\nOr dial: (US) +1 347-754-4333 PIN: 274322272#\nLearn more about Meet at: https://support.google.com/a/users/answer/9282720
URL:https://lemanacademy.com/event/e-section-5-8-showcase/
LOCATION:AZ
CATEGORIES:Marana (K-8)
END:VEVENT
BEGIN:VEVENT
DTSTART;TZID=America/Phoenix:20231215T093000
DTEND;TZID=America/Phoenix:20231215T133000
DTSTAMP:20260425T175157
CREATED:20231129T011817Z
LAST-MODIFIED:20241023T185443Z
UID:10001584-1702632600-1702647000@lemanacademy.com
SUMMARY:MS field trip to Elevate
DESCRIPTION:
URL:https://lemanacademy.com/event/ms-field-trip-to-elevate/
LOCATION:LAE Mesa Public
CATEGORIES:Mesa (K-8)
END:VEVENT
BEGIN:VEVENT
DTSTART;TZID=America/Phoenix:20231215T151500
DTEND;TZID=America/Phoenix:20231215T161500
DTSTAMP:20260425T175157
CREATED:20231108T132113Z
LAST-MODIFIED:20250805T183215Z
UID:10001480-1702653300-1702656900@lemanacademy.com
SUMMARY:Campus Tour
DESCRIPTION:
URL:https://lemanacademy.com/event/campus-tour-39/
LOCATION:AZ
CATEGORIES:Sierra Vista (K-8)
END:VEVENT
BEGIN:VEVENT
DTSTART;TZID=America/Denver:20231215T154000
DTEND;TZID=America/Denver:20231215T164000
DTSTAMP:20260425T175157
CREATED:20230817T181851Z
LAST-MODIFIED:20230906T060759Z
UID:10000965-1702654800-1702658400@lemanacademy.com
SUMMARY:Robotics Club 6th-8th
DESCRIPTION:
URL:https://lemanacademy.com/event/robotics-club-6th-8th-10/
LOCATION:AZ
CATEGORIES:Parker-Stroh (K-8)
END:VEVENT
BEGIN:VEVENT
DTSTART;TZID=America/Phoenix:20231215T160000
DTEND;TZID=America/Phoenix:20231215T170000
DTSTAMP:20260425T175157
CREATED:20231115T193510Z
LAST-MODIFIED:20241023T175131Z
UID:10001555-1702656000-1702659600@lemanacademy.com
SUMMARY:Soccer B Team @ Desert Christian
DESCRIPTION:
URL:https://lemanacademy.com/event/soccer-b-team-desert-christian/
LOCATION:9415 E Wrightstown Rd\, Tucson\, AZ\, United States
CATEGORIES:Central Tucson (K-8)
GEO:32.251875;-110.819977
END:VEVENT
BEGIN:VEVENT
DTSTART;VALUE=DATE:20231218
DTEND;VALUE=DATE:20231219
DTSTAMP:20260425T175157
CREATED:20230809T194451Z
LAST-MODIFIED:20240616T024359Z
UID:10000465-1702857600-1702943999@lemanacademy.com
SUMMARY:Green Day K-4th grade
DESCRIPTION:
URL:https://lemanacademy.com/event/green-day-k-4th-grade-19/
LOCATION:AZ
CATEGORIES:Parker-Stroh (K-8)
END:VEVENT
BEGIN:VEVENT
DTSTART;VALUE=DATE:20231218
DTEND;VALUE=DATE:20231219
DTSTAMP:20260425T175157
CREATED:20230809T194451Z
LAST-MODIFIED:20240616T024410Z
UID:10000466-1702857600-1702943999@lemanacademy.com
SUMMARY:Blue Day 5th-8th grade
DESCRIPTION:
URL:https://lemanacademy.com/event/green-day-5th-8th-grade-27/
LOCATION:AZ
CATEGORIES:Parker-Stroh (K-8)
END:VEVENT
BEGIN:VEVENT
DTSTART;VALUE=DATE:20231218
DTEND;VALUE=DATE:20231219
DTSTAMP:20260425T175157
CREATED:20231128T011941Z
LAST-MODIFIED:20240616T024410Z
UID:10001580-1702857600-1702943999@lemanacademy.com
SUMMARY:Spirit Week: Winter Character Day
DESCRIPTION:
URL:https://lemanacademy.com/event/spirit-week-winter-character-day/
LOCATION:AZ
CATEGORIES:Parker-Stroh (K-8)
END:VEVENT
BEGIN:VEVENT
DTSTART;VALUE=DATE:20231218
DTEND;VALUE=DATE:20231219
DTSTAMP:20260425T175157
CREATED:20231213T224631Z
LAST-MODIFIED:20241023T235838Z
UID:10001886-1702857600-1702943999@lemanacademy.com
SUMMARY:Spirit Week-Candy Cane Day!
DESCRIPTION:
URL:https://lemanacademy.com/event/spirit-week-candy-cane-day/
LOCATION:AZ
CATEGORIES:Marana (K-8)
END:VEVENT
BEGIN:VEVENT
DTSTART;VALUE=DATE:20231218
DTEND;VALUE=DATE:20231219
DTSTAMP:20260425T175157
CREATED:20231213T224953Z
LAST-MODIFIED:20231213T224953Z
UID:10001952-1702857600-1702943999@lemanacademy.com
SUMMARY:Spirit Week - Holiday Headwear (KG-5th)
DESCRIPTION:
URL:https://lemanacademy.com/event/spirit-week-holiday-headwear-kg-5th/
LOCATION:AZ
CATEGORIES:East Tucson (K-8)
END:VEVENT
BEGIN:VEVENT
DTSTART;VALUE=DATE:20231218
DTEND;VALUE=DATE:20231219
DTSTAMP:20260425T175157
CREATED:20231213T230929Z
LAST-MODIFIED:20231213T230929Z
UID:10001995-1702857600-1702943999@lemanacademy.com
SUMMARY:Spirit Week - Fan Day (Middle School)
DESCRIPTION:
URL:https://lemanacademy.com/event/spirit-week-fan-day-middle-school/
LOCATION:AZ
CATEGORIES:East Tucson (K-8)
END:VEVENT
BEGIN:VEVENT
DTSTART;VALUE=DATE:20231218
DTEND;VALUE=DATE:20231219
DTSTAMP:20260425T175157
CREATED:20231213T235921Z
LAST-MODIFIED:20231213T235921Z
UID:10002017-1702857600-1702943999@lemanacademy.com
SUMMARY:Spirit Week - Holiday Pajamas!
DESCRIPTION:
URL:https://lemanacademy.com/event/spirit-week-holiday-pajamas/
LOCATION:AZ
CATEGORIES:Mesa (K-8)
END:VEVENT
BEGIN:VEVENT
DTSTART;VALUE=DATE:20231218
DTEND;VALUE=DATE:20231219
DTSTAMP:20260425T175157
CREATED:20231214T000839Z
LAST-MODIFIED:20241023T221315Z
UID:10002022-1702857600-1702943999@lemanacademy.com
SUMMARY:Spirit Week: Decades Day
DESCRIPTION:
URL:https://lemanacademy.com/event/spirit-week-decades-day/
LOCATION:AZ
CATEGORIES:Oro Valley (K-8)
END:VEVENT
BEGIN:VEVENT
DTSTART;VALUE=DATE:20231218
DTEND;VALUE=DATE:20231219
DTSTAMP:20260425T175157
CREATED:20231214T001336Z
LAST-MODIFIED:20250805T183215Z
UID:10002029-1702857600-1702943999@lemanacademy.com
SUMMARY:Spirit Week: Christmas Movie Monday - Dress as your favorite Christmas movie!
DESCRIPTION:
URL:https://lemanacademy.com/event/spirit-week-christmas-movie-monday-dress-as-your-favorite-christmas-movie/
LOCATION:AZ
CATEGORIES:Sierra Vista (K-8)
END:VEVENT
BEGIN:VEVENT
DTSTART;TZID=America/Phoenix:20231218T090000
DTEND;TZID=America/Phoenix:20231218T100000
DTSTAMP:20260425T175157
CREATED:20231213T194906Z
LAST-MODIFIED:20231213T233318Z
UID:10001872-1702890000-1702893600@lemanacademy.com
SUMMARY:2nd Grade Pancake Breakfast
DESCRIPTION:
URL:https://lemanacademy.com/event/2nd-grade-pancake-breakfast/
LOCATION:LAE Mesa Public
END:VEVENT
BEGIN:VEVENT
DTSTART;TZID=America/Denver:20231218T153000
DTEND;TZID=America/Denver:20231218T173000
DTSTAMP:20260425T175157
CREATED:20231101T023532Z
LAST-MODIFIED:20240616T024359Z
UID:10001442-1702913400-1702920600@lemanacademy.com
SUMMARY:Boys Basketball Practice A&B
DESCRIPTION:
URL:https://lemanacademy.com/event/boys-basketball-practice-ab-5/
LOCATION:AZ
END:VEVENT
BEGIN:VEVENT
DTSTART;TZID=America/Phoenix:20231218T160000
DTEND;TZID=America/Phoenix:20231218T170000
DTSTAMP:20260425T175157
CREATED:20231115T193510Z
LAST-MODIFIED:20241023T175132Z
UID:10001556-1702915200-1702918800@lemanacademy.com
SUMMARY:Soccer B Team @ St Michaels
DESCRIPTION:
URL:https://lemanacademy.com/event/soccer-b-team-st-michaels/
LOCATION:7200 E Tanque Verde Rd\, Tucson\, AZ\, United States
CATEGORIES:Central Tucson (K-8)
GEO:32.251875;-110.819977
END:VEVENT
BEGIN:VEVENT
DTSTART;VALUE=DATE:20231219
DTEND;VALUE=DATE:20231220
DTSTAMP:20260425T175157
CREATED:20230809T194451Z
LAST-MODIFIED:20240616T024359Z
UID:10000463-1702944000-1703030399@lemanacademy.com
SUMMARY:White Day K-4th grade
DESCRIPTION:
URL:https://lemanacademy.com/event/white-day-k-4th-grade-17/
LOCATION:AZ
CATEGORIES:Parker-Stroh (K-8)
END:VEVENT
BEGIN:VEVENT
DTSTART;VALUE=DATE:20231219
DTEND;VALUE=DATE:20231220
DTSTAMP:20260425T175157
CREATED:20230809T194451Z
LAST-MODIFIED:20240616T024428Z
UID:10000464-1702944000-1703030399@lemanacademy.com
SUMMARY:Green Day 5th-8th grade
DESCRIPTION:
URL:https://lemanacademy.com/event/white-day-5th-8th-grade-26/
LOCATION:AZ
CATEGORIES:Parker-Stroh (K-8)
END:VEVENT
BEGIN:VEVENT
DTSTART;VALUE=DATE:20231219
DTEND;VALUE=DATE:20231220
DTSTAMP:20260425T175157
CREATED:20231128T011942Z
LAST-MODIFIED:20240616T024359Z
UID:10001582-1702944000-1703030399@lemanacademy.com
SUMMARY:Spirit Day: 80s Ski Day
DESCRIPTION:
URL:https://lemanacademy.com/event/spirit-day-80s-ski-day/
LOCATION:AZ
CATEGORIES:Parker-Stroh (K-8)
END:VEVENT
BEGIN:VEVENT
DTSTART;VALUE=DATE:20231219
DTEND;VALUE=DATE:20231220
DTSTAMP:20260425T175157
CREATED:20231213T224632Z
LAST-MODIFIED:20241023T235844Z
UID:10001888-1702944000-1703030399@lemanacademy.com
SUMMARY:Spirit Week-Winter Wonderland Day!
DESCRIPTION:
URL:https://lemanacademy.com/event/spirit-week-winter-wonderland-day/
LOCATION:AZ
CATEGORIES:Marana (K-8)
END:VEVENT
BEGIN:VEVENT
DTSTART;VALUE=DATE:20231219
DTEND;VALUE=DATE:20231220
DTSTAMP:20260425T175157
CREATED:20231213T225039Z
LAST-MODIFIED:20231213T225039Z
UID:10001953-1702944000-1703030399@lemanacademy.com
SUMMARY:Spirit Week - Festive Sweater (KG-5th)
DESCRIPTION:
URL:https://lemanacademy.com/event/spirit-week-festive-sweater-kg-5th/
LOCATION:AZ
CATEGORIES:East Tucson (K-8)
END:VEVENT
BEGIN:VEVENT
DTSTART;VALUE=DATE:20231219
DTEND;VALUE=DATE:20231220
DTSTAMP:20260425T175157
CREATED:20231213T231007Z
LAST-MODIFIED:20231213T231007Z
UID:10001996-1702944000-1703030399@lemanacademy.com
SUMMARY:Spirit Week - Switch Day (Middle School)
DESCRIPTION:
URL:https://lemanacademy.com/event/spirit-week-switch-day-middle-school/
LOCATION:AZ
CATEGORIES:East Tucson (K-8)
END:VEVENT
BEGIN:VEVENT
DTSTART;VALUE=DATE:20231219
DTEND;VALUE=DATE:20231220
DTSTAMP:20260425T175157
CREATED:20231214T000002Z
LAST-MODIFIED:20231214T000002Z
UID:10002018-1702944000-1703030399@lemanacademy.com
SUMMARY:Spirit Week - Holiday Character and/or Hats
DESCRIPTION:
URL:https://lemanacademy.com/event/spirit-week-holiday-character-and-or-hats/
LOCATION:AZ
CATEGORIES:Mesa (K-8)
END:VEVENT
BEGIN:VEVENT
DTSTART;VALUE=DATE:20231219
DTEND;VALUE=DATE:20231220
DTSTAMP:20260425T175157
CREATED:20231214T000839Z
LAST-MODIFIED:20241023T221305Z
UID:10002021-1702944000-1703030399@lemanacademy.com
SUMMARY:Spirit Week: Mismatch Day
DESCRIPTION:
URL:https://lemanacademy.com/event/spirit-week-mismatch-day/
LOCATION:AZ
CATEGORIES:Oro Valley (K-8)
END:VEVENT
BEGIN:VEVENT
DTSTART;VALUE=DATE:20231219
DTEND;VALUE=DATE:20231220
DTSTAMP:20260425T175157
CREATED:20231214T001335Z
LAST-MODIFIED:20250805T183215Z
UID:10002028-1702944000-1703030399@lemanacademy.com
SUMMARY:Spirit Week: Too Cozy Tuesday - Wear your coziest clothes!
DESCRIPTION:
URL:https://lemanacademy.com/event/spirit-week-too-cozy-tuesday-wear-your-coziest-clothes/
LOCATION:AZ
CATEGORIES:Sierra Vista (K-8)
END:VEVENT
BEGIN:VEVENT
DTSTART;TZID=America/Phoenix:20231219T160000
DTEND;TZID=America/Phoenix:20231219T170000
DTSTAMP:20260425T175157
CREATED:20231114T193348Z
LAST-MODIFIED:20241023T175132Z
UID:10001533-1703001600-1703005200@lemanacademy.com
SUMMARY:Soccer A Team @ Desert Christian
DESCRIPTION:
URL:https://lemanacademy.com/event/soccer-a-team-desert-christian/
LOCATION:9415 E Wrightstown Rd\, Tucson\, AZ\, United States
CATEGORIES:Central Tucson (K-8)
GEO:32.251875;-110.819977
END:VEVENT
BEGIN:VEVENT
DTSTART;VALUE=DATE:20231220
DTEND;VALUE=DATE:20231221
DTSTAMP:20260425T175157
CREATED:20231214T000033Z
LAST-MODIFIED:20231214T000047Z
UID:10002019-1703030400-1703116799@lemanacademy.com
SUMMARY:Spirit Week - Ugly Sweater
DESCRIPTION:
URL:https://lemanacademy.com/event/spirit-week-ugly-sweater/
LOCATION:AZ
CATEGORIES:Mesa (K-8)
END:VEVENT
END:VCALENDAR