BEGIN:VCALENDAR
VERSION:2.0
PRODID:-//Leman Academy of Excellence - ECPv6.15.20//NONSGML v1.0//EN
CALSCALE:GREGORIAN
METHOD:PUBLISH
X-WR-CALNAME:Leman Academy of Excellence
X-ORIGINAL-URL:https://lemanacademy.com
X-WR-CALDESC:Events for Leman Academy of Excellence
REFRESH-INTERVAL;VALUE=DURATION:PT1H
X-Robots-Tag:noindex
X-PUBLISHED-TTL:PT1H
BEGIN:VTIMEZONE
TZID:America/Denver
BEGIN:DAYLIGHT
TZOFFSETFROM:-0700
TZOFFSETTO:-0600
TZNAME:MDT
DTSTART:20240310T090000
END:DAYLIGHT
BEGIN:STANDARD
TZOFFSETFROM:-0600
TZOFFSETTO:-0700
TZNAME:MST
DTSTART:20241103T080000
END:STANDARD
BEGIN:DAYLIGHT
TZOFFSETFROM:-0700
TZOFFSETTO:-0600
TZNAME:MDT
DTSTART:20250309T090000
END:DAYLIGHT
BEGIN:STANDARD
TZOFFSETFROM:-0600
TZOFFSETTO:-0700
TZNAME:MST
DTSTART:20251102T080000
END:STANDARD
BEGIN:DAYLIGHT
TZOFFSETFROM:-0700
TZOFFSETTO:-0600
TZNAME:MDT
DTSTART:20260308T090000
END:DAYLIGHT
BEGIN:STANDARD
TZOFFSETFROM:-0600
TZOFFSETTO:-0700
TZNAME:MST
DTSTART:20261101T080000
END:STANDARD
END:VTIMEZONE
BEGIN:VTIMEZONE
TZID:America/Phoenix
BEGIN:STANDARD
TZOFFSETFROM:-0700
TZOFFSETTO:-0700
TZNAME:MST
DTSTART:20240101T000000
END:STANDARD
END:VTIMEZONE
BEGIN:VEVENT
DTSTART;VALUE=DATE:20250114
DTEND;VALUE=DATE:20250115
DTSTAMP:20260421T180429
CREATED:20240816T192142Z
LAST-MODIFIED:20251021T204242Z
UID:10004457-1736812800-1736899199@lemanacademy.com
SUMMARY:Green Day
DESCRIPTION:
URL:https://lemanacademy.com/event/green-day-25/
LOCATION:AZ
CATEGORIES:Parker-Bayou Gulch (K-8)
END:VEVENT
BEGIN:VEVENT
DTSTART;VALUE=DATE:20250114
DTEND;VALUE=DATE:20250115
DTSTAMP:20260421T180429
CREATED:20240816T192159Z
LAST-MODIFIED:20251021T204242Z
UID:10004460-1736812800-1736899199@lemanacademy.com
SUMMARY:White Day
DESCRIPTION:
URL:https://lemanacademy.com/event/white-day-26/
LOCATION:AZ
CATEGORIES:Parker-Bayou Gulch (K-8)
END:VEVENT
BEGIN:VEVENT
DTSTART;VALUE=DATE:20250114
DTEND;VALUE=DATE:20250115
DTSTAMP:20260421T180429
CREATED:20241024T031827Z
LAST-MODIFIED:20251203T234753Z
UID:10005045-1736812800-1736899199@lemanacademy.com
SUMMARY:Gold Day K-4th grade
DESCRIPTION:
URL:https://lemanacademy.com/event/gold-day-k-4th-grade-61/
LOCATION:AZ
CATEGORIES:Parker-Stroh (K-8)
END:VEVENT
BEGIN:VEVENT
DTSTART;VALUE=DATE:20250114
DTEND;VALUE=DATE:20250115
DTSTAMP:20260421T180429
CREATED:20241024T031828Z
LAST-MODIFIED:20251203T234729Z
UID:10005046-1736812800-1736899199@lemanacademy.com
SUMMARY:Green Day 5th-8th grade
DESCRIPTION:
URL:https://lemanacademy.com/event/green-day-5th-8th-grade-92/
LOCATION:AZ
CATEGORIES:Parker-Stroh (K-8)
END:VEVENT
BEGIN:VEVENT
DTSTART;TZID=America/Phoenix:20250114T083000
DTEND;TZID=America/Phoenix:20250114T140000
DTSTAMP:20260421T180429
CREATED:20241217T000329Z
LAST-MODIFIED:20260331T235650Z
UID:10006326-1736843400-1736863200@lemanacademy.com
SUMMARY:School Spelling Bee Gym 8:30 am
DESCRIPTION:
URL:https://lemanacademy.com/event/school-spelling-bee-gym-830-am/
LOCATION:AZ
CATEGORIES:East Tucson (K-8)
END:VEVENT
BEGIN:VEVENT
DTSTART;TZID=America/Phoenix:20250114T150000
DTEND;TZID=America/Phoenix:20250114T160000
DTSTAMP:20260421T180429
CREATED:20250101T214017Z
LAST-MODIFIED:20260219T073728Z
UID:10006358-1736866800-1736870400@lemanacademy.com
SUMMARY:Spanish Club After School
DESCRIPTION:
URL:https://lemanacademy.com/event/spanish-club-after-school-84/
LOCATION:AZ
CATEGORIES:Oro Valley (K-8)
END:VEVENT
BEGIN:VEVENT
DTSTART;TZID=America/Phoenix:20250114T150000
DTEND;TZID=America/Phoenix:20250114T160000
DTSTAMP:20260421T180429
CREATED:20250101T214024Z
LAST-MODIFIED:20260219T073728Z
UID:10006359-1736866800-1736870400@lemanacademy.com
SUMMARY:Art Club After School
DESCRIPTION:
URL:https://lemanacademy.com/event/art-club-after-school-39/
LOCATION:AZ
CATEGORIES:Oro Valley (K-8)
END:VEVENT
BEGIN:VEVENT
DTSTART;TZID=America/Phoenix:20250114T160000
DTEND;TZID=America/Phoenix:20250114T170000
DTSTAMP:20260421T180429
CREATED:20241106T155524Z
LAST-MODIFIED:20260219T073728Z
UID:10006100-1736870400-1736874000@lemanacademy.com
SUMMARY:Softball Home Game vs. Tucson Country Day
DESCRIPTION:
URL:https://lemanacademy.com/event/softball-home-game-vs-tucson-country-day/
LOCATION:Riverfront Park\, 2 W Oro Valley Dr\, Tucson\, AZ\, United States
CATEGORIES:Oro Valley (K-8)
GEO:32.394197;-110.969438
X-APPLE-STRUCTURED-LOCATION;VALUE=URI;X-ADDRESS=Riverfront Park 2 W Oro Valley Dr Tucson AZ United States;X-APPLE-RADIUS=500;X-TITLE=2 W Oro Valley Dr:geo:-110.969438,32.394197
END:VEVENT
BEGIN:VEVENT
DTSTART;TZID=America/Phoenix:20250114T160000
DTEND;TZID=America/Phoenix:20250114T170000
DTSTAMP:20260421T180429
CREATED:20241113T235150Z
LAST-MODIFIED:20260331T235650Z
UID:10006198-1736870400-1736874000@lemanacademy.com
SUMMARY:Soccer-Casas Christian @ Leman East A Team
DESCRIPTION:at Jesse Owens Park at 4 pm. A team only.
URL:https://lemanacademy.com/event/soccer-casas-christian-leman-east-at-jesse-owens-park-at-4-pm-a-team-only/
LOCATION:Jesse Owens Park\, 400 S Sarnoff Dr\, Tucson\, AZ\, United States
CATEGORIES:East Tucson (K-8)
GEO:32.216684;-110.814901
X-APPLE-STRUCTURED-LOCATION;VALUE=URI;X-ADDRESS=Jesse Owens Park 400 S Sarnoff Dr Tucson AZ United States;X-APPLE-RADIUS=500;X-TITLE=400 S Sarnoff Dr:geo:-110.814901,32.216684
END:VEVENT
BEGIN:VEVENT
DTSTART;TZID=America/Phoenix:20250114T180000
DTEND;TZID=America/Phoenix:20250114T190000
DTSTAMP:20260421T180429
CREATED:20241024T224349Z
LAST-MODIFIED:20250701T185220Z
UID:10005157-1736877600-1736881200@lemanacademy.com
SUMMARY:PTO Meeting - cafeteria A
DESCRIPTION:
URL:https://lemanacademy.com/event/pto-meeting-cafeteria-a-5/
LOCATION:AZ
CATEGORIES:Marana (K-8)
END:VEVENT
BEGIN:VEVENT
DTSTART;VALUE=DATE:20250115
DTEND;VALUE=DATE:20250116
DTSTAMP:20260421T180429
CREATED:20240416T202958Z
LAST-MODIFIED:20260421T201117Z
UID:10002673-1736899200-1736985599@lemanacademy.com
SUMMARY:Early Release Day
DESCRIPTION:
URL:https://lemanacademy.com/event/early-release-day-163/
LOCATION:AZ
CATEGORIES:Central Tucson (K-8)
END:VEVENT
BEGIN:VEVENT
DTSTART;VALUE=DATE:20250115
DTEND;VALUE=DATE:20250116
DTSTAMP:20260421T180429
CREATED:20240816T192141Z
LAST-MODIFIED:20251021T204242Z
UID:10004456-1736899200-1736985599@lemanacademy.com
SUMMARY:White Day
DESCRIPTION:
URL:https://lemanacademy.com/event/white-day-25/
LOCATION:AZ
CATEGORIES:Parker-Bayou Gulch (K-8)
END:VEVENT
BEGIN:VEVENT
DTSTART;VALUE=DATE:20250115
DTEND;VALUE=DATE:20250116
DTSTAMP:20260421T180429
CREATED:20241024T031824Z
LAST-MODIFIED:20251203T234752Z
UID:10005043-1736899200-1736985599@lemanacademy.com
SUMMARY:White Day 5th-8th grade
DESCRIPTION:
URL:https://lemanacademy.com/event/white-day-5th-8th-grade-85/
LOCATION:AZ
CATEGORIES:Parker-Stroh (K-8)
END:VEVENT
BEGIN:VEVENT
DTSTART;VALUE=DATE:20250115
DTEND;VALUE=DATE:20250116
DTSTAMP:20260421T180429
CREATED:20241024T031825Z
LAST-MODIFIED:20251203T234752Z
UID:10005044-1736899200-1736985599@lemanacademy.com
SUMMARY:Blue Day K-4th grade
DESCRIPTION:
URL:https://lemanacademy.com/event/blue-day-k-4th-grade-62/
LOCATION:AZ
CATEGORIES:Parker-Stroh (K-8)
END:VEVENT
BEGIN:VEVENT
DTSTART;VALUE=DATE:20250115
DTEND;VALUE=DATE:20250116
DTSTAMP:20260421T180429
CREATED:20241025T010430Z
LAST-MODIFIED:20260219T073729Z
UID:10005407-1736899200-1736985599@lemanacademy.com
SUMMARY:Early Release Day
DESCRIPTION:
URL:https://lemanacademy.com/event/early-release-day-189/
LOCATION:AZ
CATEGORIES:Oro Valley (K-8)
END:VEVENT
BEGIN:VEVENT
DTSTART;VALUE=DATE:20250115
DTEND;VALUE=DATE:20250116
DTSTAMP:20260421T180429
CREATED:20241122T221557Z
LAST-MODIFIED:20260331T235650Z
UID:10006252-1736899200-1736985599@lemanacademy.com
SUMMARY:Early Release Day
DESCRIPTION:
URL:https://lemanacademy.com/event/early-release-day-280/
LOCATION:AZ
CATEGORIES:East Tucson (K-8)
END:VEVENT
BEGIN:VEVENT
DTSTART;VALUE=DATE:20250115
DTEND;VALUE=DATE:20250116
DTSTAMP:20260421T180429
CREATED:20250107T215511Z
LAST-MODIFIED:20260219T073728Z
UID:10007019-1736899200-1736985599@lemanacademy.com
SUMMARY:$1 Dress Down Day
DESCRIPTION:
URL:https://lemanacademy.com/event/1-dress-down-day-4/
LOCATION:AZ
CATEGORIES:Oro Valley (K-8)
END:VEVENT
BEGIN:VEVENT
DTSTART;TZID=America/Denver:20250115T074500
DTEND;TZID=America/Denver:20250115T083000
DTSTAMP:20260421T180429
CREATED:20250109T001630Z
LAST-MODIFIED:20251203T234752Z
UID:10007026-1736927100-1736929800@lemanacademy.com
SUMMARY:State of the School
DESCRIPTION:
URL:https://lemanacademy.com/event/state-of-the-school-4/
LOCATION:AZ
CATEGORIES:Parker-Stroh (K-8)
END:VEVENT
BEGIN:VEVENT
DTSTART;TZID=America/Phoenix:20250115T083000
DTEND;TZID=America/Phoenix:20250115T093000
DTSTAMP:20260421T180429
CREATED:20241210T155705Z
LAST-MODIFIED:20260421T165446Z
UID:10006309-1736929800-1736933400@lemanacademy.com
SUMMARY:Qtr 2 Award Assembly K-3rd
DESCRIPTION:
URL:https://lemanacademy.com/event/qtr-2-award-assembly-k-3rd/
LOCATION:AZ
CATEGORIES:Mesa (K-8)
END:VEVENT
BEGIN:VEVENT
DTSTART;TZID=America/Phoenix:20250115T100000
DTEND;TZID=America/Phoenix:20250115T110000
DTSTAMP:20260421T180429
CREATED:20250104T163205Z
LAST-MODIFIED:20260421T165446Z
UID:10007003-1736935200-1736938800@lemanacademy.com
SUMMARY:Campus Tour
DESCRIPTION:
URL:https://lemanacademy.com/event/campus-tour-185/
LOCATION:AZ
CATEGORIES:Mesa (K-8)
END:VEVENT
BEGIN:VEVENT
DTSTART;TZID=America/Phoenix:20250115T140000
DTEND;TZID=America/Phoenix:20250115T143000
DTSTAMP:20260421T180429
CREATED:20241210T155706Z
LAST-MODIFIED:20260421T165446Z
UID:10006310-1736949600-1736951400@lemanacademy.com
SUMMARY:Qtr 2 Award Assembly 4th-8th
DESCRIPTION:
URL:https://lemanacademy.com/event/qtr-2-award-assembly-4th-8th/
LOCATION:AZ
CATEGORIES:Mesa (K-8)
END:VEVENT
BEGIN:VEVENT
DTSTART;TZID=America/Phoenix:20250115T140500
DTEND;TZID=America/Phoenix:20250115T150500
DTSTAMP:20260421T180429
CREATED:20250101T214024Z
LAST-MODIFIED:20260219T073728Z
UID:10006360-1736949900-1736953500@lemanacademy.com
SUMMARY:Taekwondo After School
DESCRIPTION:
URL:https://lemanacademy.com/event/taekwondo-after-school-252/
LOCATION:AZ
CATEGORIES:Oro Valley (K-8)
END:VEVENT
BEGIN:VEVENT
DTSTART;TZID=America/Denver:20250115T153000
DTEND;TZID=America/Denver:20250115T163000
DTSTAMP:20260421T180429
CREATED:20241024T031828Z
LAST-MODIFIED:20251203T234753Z
UID:10005047-1736955000-1736958600@lemanacademy.com
SUMMARY:Lego Club
DESCRIPTION:
URL:https://lemanacademy.com/event/lego-club-52/
LOCATION:Rm A120
CATEGORIES:Parker-Stroh (K-8)
END:VEVENT
BEGIN:VEVENT
DTSTART;TZID=America/Phoenix:20250115T160000
DTEND;TZID=America/Phoenix:20250115T170000
DTSTAMP:20260421T180429
CREATED:20241105T200539Z
LAST-MODIFIED:20250701T185220Z
UID:10006046-1736956800-1736960400@lemanacademy.com
SUMMARY:Soccer B Team HOME vs. Tucson Country Day
DESCRIPTION:
URL:https://lemanacademy.com/event/soccer-b-team-home-vs-tucson-country-day/
LOCATION:AZ
CATEGORIES:Marana (K-8)
END:VEVENT
BEGIN:VEVENT
DTSTART;TZID=America/Phoenix:20250115T160000
DTEND;TZID=America/Phoenix:20250115T170000
DTSTAMP:20260421T180429
CREATED:20241105T200540Z
LAST-MODIFIED:20250701T185220Z
UID:10006047-1736956800-1736960400@lemanacademy.com
SUMMARY:Soccer A Team AWAY @ Tucson Country Day
DESCRIPTION:
URL:https://lemanacademy.com/event/soccer-a-team-away-tucson-country-day/
LOCATION:AZ
CATEGORIES:Marana (K-8)
END:VEVENT
BEGIN:VEVENT
DTSTART;VALUE=DATE:20250116
DTEND;VALUE=DATE:20250117
DTSTAMP:20260421T180429
CREATED:20240617T211603Z
LAST-MODIFIED:20250805T183923Z
UID:10003733-1736985600-1737071999@lemanacademy.com
SUMMARY:Early Release Day
DESCRIPTION:
URL:https://lemanacademy.com/event/early-release-day-223/
LOCATION:AZ
CATEGORIES:Sierra Vista (K-8)
END:VEVENT
BEGIN:VEVENT
DTSTART;VALUE=DATE:20250116
DTEND;VALUE=DATE:20250117
DTSTAMP:20260421T180430
CREATED:20240720T021212Z
LAST-MODIFIED:20260421T165446Z
UID:10003850-1736985600-1737071999@lemanacademy.com
SUMMARY:Early Release Day
DESCRIPTION:
URL:https://lemanacademy.com/event/early-release-day-258/
LOCATION:AZ
CATEGORIES:Mesa (K-8)
END:VEVENT
BEGIN:VEVENT
DTSTART;VALUE=DATE:20250116
DTEND;VALUE=DATE:20250117
DTSTAMP:20260421T180430
CREATED:20240816T192158Z
LAST-MODIFIED:20251021T204244Z
UID:10004459-1736985600-1737071999@lemanacademy.com
SUMMARY:Blue Day
DESCRIPTION:
URL:https://lemanacademy.com/event/blue-day-26/
LOCATION:AZ
CATEGORIES:Parker-Bayou Gulch (K-8)
END:VEVENT
BEGIN:VEVENT
DTSTART;VALUE=DATE:20250116
DTEND;VALUE=DATE:20250117
DTSTAMP:20260421T180430
CREATED:20241024T031829Z
LAST-MODIFIED:20251203T234802Z
UID:10005048-1736985600-1737071999@lemanacademy.com
SUMMARY:Blue Day 5th-8th grade
DESCRIPTION:
URL:https://lemanacademy.com/event/blue-day-5th-8th-grade-85/
LOCATION:AZ
CATEGORIES:Parker-Stroh (K-8)
END:VEVENT
BEGIN:VEVENT
DTSTART;VALUE=DATE:20250116
DTEND;VALUE=DATE:20250117
DTSTAMP:20260421T180430
CREATED:20241024T031843Z
LAST-MODIFIED:20251203T234803Z
UID:10005052-1736985600-1737071999@lemanacademy.com
SUMMARY:Green Day K-4th grade
DESCRIPTION:
URL:https://lemanacademy.com/event/green-day-k-4th-grade-39/
LOCATION:AZ
CATEGORIES:Parker-Stroh (K-8)
END:VEVENT
END:VCALENDAR