BEGIN:VCALENDAR
VERSION:2.0
PRODID:-//Leman Academy of Excellence - ECPv6.15.20//NONSGML v1.0//EN
CALSCALE:GREGORIAN
METHOD:PUBLISH
X-WR-CALNAME:Leman Academy of Excellence
X-ORIGINAL-URL:https://lemanacademy.com
X-WR-CALDESC:Events for Leman Academy of Excellence
REFRESH-INTERVAL;VALUE=DURATION:PT1H
X-Robots-Tag:noindex
X-PUBLISHED-TTL:PT1H
BEGIN:VTIMEZONE
TZID:America/Phoenix
BEGIN:STANDARD
TZOFFSETFROM:-0700
TZOFFSETTO:-0700
TZNAME:MST
DTSTART:20230101T000000
END:STANDARD
END:VTIMEZONE
BEGIN:VTIMEZONE
TZID:America/Denver
BEGIN:DAYLIGHT
TZOFFSETFROM:-0700
TZOFFSETTO:-0600
TZNAME:MDT
DTSTART:20230312T090000
END:DAYLIGHT
BEGIN:STANDARD
TZOFFSETFROM:-0600
TZOFFSETTO:-0700
TZNAME:MST
DTSTART:20231105T080000
END:STANDARD
BEGIN:DAYLIGHT
TZOFFSETFROM:-0700
TZOFFSETTO:-0600
TZNAME:MDT
DTSTART:20240310T090000
END:DAYLIGHT
BEGIN:STANDARD
TZOFFSETFROM:-0600
TZOFFSETTO:-0700
TZNAME:MST
DTSTART:20241103T080000
END:STANDARD
BEGIN:DAYLIGHT
TZOFFSETFROM:-0700
TZOFFSETTO:-0600
TZNAME:MDT
DTSTART:20250309T090000
END:DAYLIGHT
BEGIN:STANDARD
TZOFFSETFROM:-0600
TZOFFSETTO:-0700
TZNAME:MST
DTSTART:20251102T080000
END:STANDARD
END:VTIMEZONE
BEGIN:VTIMEZONE
TZID:America/New_York
BEGIN:DAYLIGHT
TZOFFSETFROM:-0500
TZOFFSETTO:-0400
TZNAME:EDT
DTSTART:20230312T070000
END:DAYLIGHT
BEGIN:STANDARD
TZOFFSETFROM:-0400
TZOFFSETTO:-0500
TZNAME:EST
DTSTART:20231105T060000
END:STANDARD
BEGIN:DAYLIGHT
TZOFFSETFROM:-0500
TZOFFSETTO:-0400
TZNAME:EDT
DTSTART:20240310T070000
END:DAYLIGHT
BEGIN:STANDARD
TZOFFSETFROM:-0400
TZOFFSETTO:-0500
TZNAME:EST
DTSTART:20241103T060000
END:STANDARD
BEGIN:DAYLIGHT
TZOFFSETFROM:-0500
TZOFFSETTO:-0400
TZNAME:EDT
DTSTART:20250309T070000
END:DAYLIGHT
BEGIN:STANDARD
TZOFFSETFROM:-0400
TZOFFSETTO:-0500
TZNAME:EST
DTSTART:20251102T060000
END:STANDARD
END:VTIMEZONE
BEGIN:VEVENT
DTSTART;TZID=America/Phoenix:20240515T090000
DTEND;TZID=America/Phoenix:20240515T100000
DTSTAMP:20260421T085047
CREATED:20240416T173943Z
LAST-MODIFIED:20250805T183459Z
UID:10002624-1715763600-1715767200@lemanacademy.com
SUMMARY:Campus Tour
DESCRIPTION:
URL:https://lemanacademy.com/event/campus-tour-131/
LOCATION:AZ
CATEGORIES:Sierra Vista (K-8)
END:VEVENT
BEGIN:VEVENT
DTSTART;TZID=America/Phoenix:20240515T083000
DTEND;TZID=America/Phoenix:20240515T093000
DTSTAMP:20260421T085047
CREATED:20240409T203706Z
LAST-MODIFIED:20241023T185743Z
UID:10002433-1715761800-1715765400@lemanacademy.com
SUMMARY:K-3 Spring Concert
DESCRIPTION:
URL:https://lemanacademy.com/event/k-3-spring-concert/
LOCATION:LAE Mesa Public
CATEGORIES:Mesa (K-8)
END:VEVENT
BEGIN:VEVENT
DTSTART;TZID=America/Denver:20240515T073000
DTEND;TZID=America/Denver:20240515T081500
DTSTAMP:20260421T085047
CREATED:20240418T054722Z
LAST-MODIFIED:20251203T232638Z
UID:10002766-1715758200-1715760900@lemanacademy.com
SUMMARY:Volunteer Appreciation Grammar Cafeteria
DESCRIPTION:
URL:https://lemanacademy.com/event/volunteer-appreciation-grammar-cafeteria/
LOCATION:AZ
CATEGORIES:Parker-Stroh (K-8)
END:VEVENT
BEGIN:VEVENT
DTSTART;VALUE=DATE:20240515
DTEND;VALUE=DATE:20240516
DTSTAMP:20260421T085047
CREATED:20240617T194612Z
LAST-MODIFIED:20251203T232514Z
UID:10003466-1715731200-1715817599@lemanacademy.com
SUMMARY:Late Start
DESCRIPTION:
URL:https://lemanacademy.com/event/late-start-102/
LOCATION:AZ
CATEGORIES:Parker-Stroh (K-8)
END:VEVENT
BEGIN:VEVENT
DTSTART;VALUE=DATE:20240515
DTEND;VALUE=DATE:20240516
DTSTAMP:20260421T085047
CREATED:20231204T231353Z
LAST-MODIFIED:20241023T221752Z
UID:10001785-1715731200-1715817599@lemanacademy.com
SUMMARY:Early Release Day
DESCRIPTION:
URL:https://lemanacademy.com/event/early-release-day-138/
LOCATION:AZ
CATEGORIES:Oro Valley (K-8)
END:VEVENT
BEGIN:VEVENT
DTSTART;VALUE=DATE:20240515
DTEND;VALUE=DATE:20240516
DTSTAMP:20260421T085047
CREATED:20231204T220549Z
LAST-MODIFIED:20231204T222401Z
UID:10001628-1715731200-1715817599@lemanacademy.com
SUMMARY:Early Release Day
DESCRIPTION:
URL:https://lemanacademy.com/event/early-release-day-120/2024-05-15/
LOCATION:AZ
CATEGORIES:East Tucson (K-8)
END:VEVENT
BEGIN:VEVENT
DTSTART;VALUE=DATE:20240515
DTEND;VALUE=DATE:20240516
DTSTAMP:20260421T085047
CREATED:20230810T235204Z
LAST-MODIFIED:20251203T232637Z
UID:10000840-1715731200-1715817599@lemanacademy.com
SUMMARY:Gold Day K-4th grade
DESCRIPTION:
URL:https://lemanacademy.com/event/gold-day-k-4th-grade-39/
LOCATION:AZ
CATEGORIES:Parker-Stroh (K-8)
END:VEVENT
BEGIN:VEVENT
DTSTART;VALUE=DATE:20240515
DTEND;VALUE=DATE:20240516
DTSTAMP:20260421T085047
CREATED:20230810T235203Z
LAST-MODIFIED:20251203T232507Z
UID:10000836-1715731200-1715817599@lemanacademy.com
SUMMARY:Blue Day 5th-8th grade
DESCRIPTION:
URL:https://lemanacademy.com/event/white-day-5th-8th-grade-53/
LOCATION:AZ
CATEGORIES:Parker-Stroh (K-8)
END:VEVENT
BEGIN:VEVENT
DTSTART;VALUE=DATE:20240515
DTEND;VALUE=DATE:20240516
DTSTAMP:20260421T085047
CREATED:20230809T194530Z
LAST-MODIFIED:20251203T232640Z
UID:10000623-1715731200-1715817599@lemanacademy.com
SUMMARY:MAPS Testing Makeups
DESCRIPTION:
URL:https://lemanacademy.com/event/maps-testing-makeups-6/
LOCATION:AZ
CATEGORIES:Parker-Stroh (K-8)
END:VEVENT
BEGIN:VEVENT
DTSTART;VALUE=DATE:20240515
DTEND;VALUE=DATE:20240516
DTSTAMP:20260421T085047
CREATED:20230809T194529Z
LAST-MODIFIED:20240610T035927Z
UID:10000622-1715731200-1715817599@lemanacademy.com
SUMMARY:Late Start
DESCRIPTION:
URL:https://lemanacademy.com/event/late-start-41/
LOCATION:AZ
CATEGORIES:Parker-Stroh (K-8)
END:VEVENT
BEGIN:VEVENT
DTSTART;TZID=America/Phoenix:20240514T151500
DTEND;TZID=America/Phoenix:20240514T161500
DTSTAMP:20260421T085047
CREATED:20240416T014208Z
LAST-MODIFIED:20240617T032627Z
UID:10002541-1715699700-1715703300@lemanacademy.com
SUMMARY:Young Reporters Club
DESCRIPTION:
URL:https://lemanacademy.com/event/young-reporters-club-5/
LOCATION:AZ
CATEGORIES:East Tucson (K-8)
END:VEVENT
BEGIN:VEVENT
DTSTART;TZID=America/Phoenix:20240514T151500
DTEND;TZID=America/Phoenix:20240514T161500
DTSTAMP:20260421T085047
CREATED:20240416T014207Z
LAST-MODIFIED:20240617T032626Z
UID:10002540-1715699700-1715703300@lemanacademy.com
SUMMARY:Chess Club
DESCRIPTION:
URL:https://lemanacademy.com/event/chess-club-5/
LOCATION:AZ
CATEGORIES:East Tucson (K-8)
END:VEVENT
BEGIN:VEVENT
DTSTART;TZID=America/Phoenix:20240514T151500
DTEND;TZID=America/Phoenix:20240514T161500
DTSTAMP:20260421T085047
CREATED:20240416T012345Z
LAST-MODIFIED:20241023T221751Z
UID:10002504-1715699700-1715703300@lemanacademy.com
SUMMARY:Lego Club
DESCRIPTION:1st-4th grade scholar is invited to participate in Lego Club! As a former preschooland elementary school teacher\, I have seen the benefits of working with Legos. Theyincrease your child's fine motor skills\, are great visuals for math\, and allow your scholarto get in touch with their creative side. In Lego club we will also incorporate STEMactivities\, coding\, building robots\, and just having fun using our imaginations!
URL:https://lemanacademy.com/event/lego-club-33/
LOCATION:AZ
CATEGORIES:Oro Valley (K-8)
END:VEVENT
BEGIN:VEVENT
DTSTART;TZID=America/Phoenix:20240514T150000
DTEND;TZID=America/Phoenix:20240514T160000
DTSTAMP:20260421T085047
CREATED:20240416T012344Z
LAST-MODIFIED:20241023T221751Z
UID:10002503-1715698800-1715702400@lemanacademy.com
SUMMARY:Art Club
DESCRIPTION:1st – 5th Grade
URL:https://lemanacademy.com/event/art-club-9/
LOCATION:AZ
CATEGORIES:Oro Valley (K-8)
END:VEVENT
BEGIN:VEVENT
DTSTART;TZID=America/Phoenix:20240514T131500
DTEND;TZID=America/Phoenix:20240514T141500
DTSTAMP:20260421T085047
CREATED:20240308T120553Z
LAST-MODIFIED:20241023T000348Z
UID:10002359-1715692500-1715696100@lemanacademy.com
SUMMARY:4th Grade Showcase
DESCRIPTION:Join with Google Meet: https://meet.google.com/fja-wzfx-frw\nOr dial: (US) +1 240-745-6444 PIN: 610688842#\nLearn more about Meet at: https://support.google.com/a/users/answer/9282720
URL:https://lemanacademy.com/event/4th-grade-showcase/
LOCATION:AZ
CATEGORIES:Marana (K-8)
END:VEVENT
BEGIN:VEVENT
DTSTART;TZID=America/Phoenix:20240514T083000
DTEND;TZID=America/Phoenix:20240515T093000
DTSTAMP:20260421T085047
CREATED:20240405T203224Z
LAST-MODIFIED:20241023T143702Z
UID:10002423-1715675400-1715765400@lemanacademy.com
SUMMARY:Music Concert
DESCRIPTION:Grades 4-8\nLocation: Gym
URL:https://lemanacademy.com/event/music-concert-2/
LOCATION:AZ
CATEGORIES:Central Tucson (K-8)
END:VEVENT
BEGIN:VEVENT
DTSTART;VALUE=DATE:20240514
DTEND;VALUE=DATE:20240515
DTSTAMP:20260421T085047
CREATED:20240411T051700Z
LAST-MODIFIED:20251203T232638Z
UID:10002456-1715644800-1715731199@lemanacademy.com
SUMMARY:Boys Volleyball Leman Vs CMS @ CMS
DESCRIPTION:
URL:https://lemanacademy.com/event/boys-volleyball-leman-vs-cms-cms/
LOCATION:AZ
CATEGORIES:Parker-Stroh (K-8)
END:VEVENT
BEGIN:VEVENT
DTSTART;VALUE=DATE:20240514
DTEND;VALUE=DATE:20240515
DTSTAMP:20260421T085047
CREATED:20240411T051649Z
LAST-MODIFIED:20251203T232637Z
UID:10002455-1715644800-1715731199@lemanacademy.com
SUMMARY:Girls Soccer Leman Vs PRA @ Leman
DESCRIPTION:
URL:https://lemanacademy.com/event/girls-soccer-leman-vs-pra-leman/
LOCATION:AZ
CATEGORIES:Parker-Stroh (K-8)
END:VEVENT
BEGIN:VEVENT
DTSTART;VALUE=DATE:20240514
DTEND;VALUE=DATE:20240515
DTSTAMP:20260421T085047
CREATED:20230830T025831Z
LAST-MODIFIED:20251203T232513Z
UID:10001119-1715644800-1715731199@lemanacademy.com
SUMMARY:3rd Grade Field Trip
DESCRIPTION:
URL:https://lemanacademy.com/event/3rd-grade-field-trip/
LOCATION:4 Mile Historic Park
CATEGORIES:Parker-Stroh (K-8)
END:VEVENT
BEGIN:VEVENT
DTSTART;VALUE=DATE:20240514
DTEND;VALUE=DATE:20240515
DTSTAMP:20260421T085047
CREATED:20230810T235203Z
LAST-MODIFIED:20251203T232513Z
UID:10000837-1715644800-1715731199@lemanacademy.com
SUMMARY:White Day K-4th grade
DESCRIPTION:
URL:https://lemanacademy.com/event/white-day-k-4th-grade-38/
LOCATION:AZ
CATEGORIES:Parker-Stroh (K-8)
END:VEVENT
BEGIN:VEVENT
DTSTART;VALUE=DATE:20240514
DTEND;VALUE=DATE:20240515
DTSTAMP:20260421T085047
CREATED:20230810T235202Z
LAST-MODIFIED:20251203T232513Z
UID:10000835-1715644800-1715731199@lemanacademy.com
SUMMARY:White Day 5th-8th grade
DESCRIPTION:
URL:https://lemanacademy.com/event/green-day-5th-8th-grade-59/
LOCATION:AZ
CATEGORIES:Parker-Stroh (K-8)
END:VEVENT
BEGIN:VEVENT
DTSTART;VALUE=DATE:20240514
DTEND;VALUE=DATE:20240515
DTSTAMP:20260421T085047
CREATED:20230809T194529Z
LAST-MODIFIED:20251203T232513Z
UID:10000619-1715644800-1715731199@lemanacademy.com
SUMMARY:MAPS Testing 2nd Grade
DESCRIPTION:
URL:https://lemanacademy.com/event/maps-testing-2nd-grade/
LOCATION:AZ
CATEGORIES:Parker-Stroh (K-8)
END:VEVENT
BEGIN:VEVENT
DTSTART;TZID=America/Denver:20240513T154500
DTEND;TZID=America/Denver:20240513T164500
DTSTAMP:20260421T085047
CREATED:20240208T015116Z
LAST-MODIFIED:20251203T232507Z
UID:10002225-1715615100-1715618700@lemanacademy.com
SUMMARY:School Tour
DESCRIPTION:
URL:https://lemanacademy.com/event/school-tour-18/
LOCATION:AZ
CATEGORIES:Parker-Stroh (K-8)
END:VEVENT
BEGIN:VEVENT
DTSTART;TZID=America/Phoenix:20240513T130000
DTEND;TZID=America/Phoenix:20240513T140000
DTSTAMP:20260421T085047
CREATED:20240508T230722Z
LAST-MODIFIED:20260120T004655Z
UID:10002853-1715605200-1715608800@lemanacademy.com
SUMMARY:Info Session
DESCRIPTION:Join with Google Meet: https://meet.google.com/bxy-djoc-wff\nOr dial: (US) +1 225-532-1842 PIN: 152882275#\nLearn more about Meet at: https://support.google.com/a/users/answer/9282720
URL:https://lemanacademy.com/event/info-session-10/
LOCATION:AZ
CATEGORIES:Leman Virtual Academy (K-8)
END:VEVENT
BEGIN:VEVENT
DTSTART;TZID=America/Phoenix:20240513T070000
DTEND;TZID=America/Phoenix:20240513T080000
DTSTAMP:20260421T085047
CREATED:20231213T224700Z
LAST-MODIFIED:20241023T000348Z
UID:10001951-1715583600-1715587200@lemanacademy.com
SUMMARY:Chess Before School Club
DESCRIPTION:K-8th Grade. \n7am-the line up for each grade
URL:https://lemanacademy.com/event/chess-before-school-club-13/
LOCATION:AZ
CATEGORIES:Marana (K-8)
END:VEVENT
BEGIN:VEVENT
DTSTART;VALUE=DATE:20240513
DTEND;VALUE=DATE:20240518
DTSTAMP:20260421T085047
CREATED:20240423T010929Z
LAST-MODIFIED:20241023T221911Z
UID:10002785-1715558400-1715990399@lemanacademy.com
SUMMARY:Scholastic Book Fair BOGO
DESCRIPTION:
URL:https://lemanacademy.com/event/scholastic-book-fair-bogo/
LOCATION:AZ
CATEGORIES:Oro Valley (K-8)
END:VEVENT
BEGIN:VEVENT
DTSTART;VALUE=DATE:20240513
DTEND;VALUE=DATE:20240514
DTSTAMP:20260421T085047
CREATED:20230810T235203Z
LAST-MODIFIED:20251203T232507Z
UID:10000838-1715558400-1715644799@lemanacademy.com
SUMMARY:Green Day K-4 grade
DESCRIPTION:
URL:https://lemanacademy.com/event/green-day-k-4-grade-20/
LOCATION:AZ
CATEGORIES:Parker-Stroh (K-8)
END:VEVENT
BEGIN:VEVENT
DTSTART;VALUE=DATE:20240513
DTEND;VALUE=DATE:20240514
DTSTAMP:20260421T085047
CREATED:20230810T235202Z
LAST-MODIFIED:20251203T232507Z
UID:10000834-1715558400-1715644799@lemanacademy.com
SUMMARY:Green Day 5th-8th grade
DESCRIPTION:
URL:https://lemanacademy.com/event/blue-day-5th-8th-grade-54/
LOCATION:AZ
CATEGORIES:Parker-Stroh (K-8)
END:VEVENT
BEGIN:VEVENT
DTSTART;VALUE=DATE:20240513
DTEND;VALUE=DATE:20240514
DTSTAMP:20260421T085047
CREATED:20230809T194529Z
LAST-MODIFIED:20251203T232507Z
UID:10000620-1715558400-1715644799@lemanacademy.com
SUMMARY:MAPS Testing 3rd Grade AM/Makeups PM
DESCRIPTION:
URL:https://lemanacademy.com/event/maps-testing-3rd-grade-am-makeups-pm-3/
LOCATION:AZ
CATEGORIES:Parker-Stroh (K-8)
END:VEVENT
BEGIN:VEVENT
DTSTART;TZID=America/Phoenix:20240511T180000
DTEND;TZID=America/Phoenix:20240511T210000
DTSTAMP:20260421T085047
CREATED:20231108T123335Z
LAST-MODIFIED:20241023T221751Z
UID:10001477-1715450400-1715461200@lemanacademy.com
SUMMARY:8th grade Etiquette Dance
DESCRIPTION:
URL:https://lemanacademy.com/event/8th-grade-etiquette-dance/
LOCATION:AZ
CATEGORIES:Oro Valley (K-8)
END:VEVENT
END:VCALENDAR