BEGIN:VCALENDAR
VERSION:2.0
PRODID:-//Leman Academy of Excellence - ECPv6.15.20//NONSGML v1.0//EN
CALSCALE:GREGORIAN
METHOD:PUBLISH
X-ORIGINAL-URL:https://lemanacademy.com
X-WR-CALDESC:Events for Leman Academy of Excellence
REFRESH-INTERVAL;VALUE=DURATION:PT1H
X-Robots-Tag:noindex
X-PUBLISHED-TTL:PT1H
BEGIN:VTIMEZONE
TZID:America/Denver
BEGIN:DAYLIGHT
TZOFFSETFROM:-0700
TZOFFSETTO:-0600
TZNAME:MDT
DTSTART:20220313T090000
END:DAYLIGHT
BEGIN:STANDARD
TZOFFSETFROM:-0600
TZOFFSETTO:-0700
TZNAME:MST
DTSTART:20221106T080000
END:STANDARD
BEGIN:DAYLIGHT
TZOFFSETFROM:-0700
TZOFFSETTO:-0600
TZNAME:MDT
DTSTART:20230312T090000
END:DAYLIGHT
BEGIN:STANDARD
TZOFFSETFROM:-0600
TZOFFSETTO:-0700
TZNAME:MST
DTSTART:20231105T080000
END:STANDARD
BEGIN:DAYLIGHT
TZOFFSETFROM:-0700
TZOFFSETTO:-0600
TZNAME:MDT
DTSTART:20240310T090000
END:DAYLIGHT
BEGIN:STANDARD
TZOFFSETFROM:-0600
TZOFFSETTO:-0700
TZNAME:MST
DTSTART:20241103T080000
END:STANDARD
BEGIN:DAYLIGHT
TZOFFSETFROM:-0700
TZOFFSETTO:-0600
TZNAME:MDT
DTSTART:20250309T090000
END:DAYLIGHT
BEGIN:STANDARD
TZOFFSETFROM:-0600
TZOFFSETTO:-0700
TZNAME:MST
DTSTART:20251102T080000
END:STANDARD
BEGIN:DAYLIGHT
TZOFFSETFROM:-0700
TZOFFSETTO:-0600
TZNAME:MDT
DTSTART:20260308T090000
END:DAYLIGHT
BEGIN:STANDARD
TZOFFSETFROM:-0600
TZOFFSETTO:-0700
TZNAME:MST
DTSTART:20261101T080000
END:STANDARD
END:VTIMEZONE
BEGIN:VEVENT
DTSTART;TZID=America/Denver:20250424T083000
DTEND;TZID=America/Denver:20250424T093000
DTSTAMP:20260421T152710
CREATED:20250423T001401Z
LAST-MODIFIED:20251204T001036Z
UID:10007838-1745483400-1745487000@lemanacademy.com
SUMMARY:RVC Meeting
DESCRIPTION:
URL:https://lemanacademy.com/event/rvc-meeting-4/
LOCATION:Conference Room
CATEGORIES:Parker-Stroh (K-8)
END:VEVENT
BEGIN:VEVENT
DTSTART;TZID=America/Denver:20250227T081500
DTEND;TZID=America/Denver:20250227T094500
DTSTAMP:20260421T152710
CREATED:20250213T001752Z
LAST-MODIFIED:20251203T235130Z
UID:10007469-1740644100-1740649500@lemanacademy.com
SUMMARY:RVC Staff Appreciation Meeting
DESCRIPTION:Time tbd
URL:https://lemanacademy.com/event/rvc-staff-appreciation-meeting/
LOCATION:Conference Room
CATEGORIES:Parker-Stroh (K-8)
END:VEVENT
BEGIN:VEVENT
DTSTART;TZID=America/Denver:20231012T093000
DTEND;TZID=America/Denver:20231012T103000
DTSTAMP:20260421T152710
CREATED:20230830T025642Z
LAST-MODIFIED:20240617T091602Z
UID:10001105-1697103000-1697106600@lemanacademy.com
SUMMARY:PTO Board Meeting
DESCRIPTION:
URL:https://lemanacademy.com/event/pto-board-meeting-conference-room-2/
LOCATION:Conference Room
CATEGORIES:Parker-Stroh (K-8)
END:VEVENT
BEGIN:VEVENT
DTSTART;TZID=America/Denver:20230914T093000
DTEND;TZID=America/Denver:20230914T110000
DTSTAMP:20260421T152710
CREATED:20230830T025624Z
LAST-MODIFIED:20240617T101236Z
UID:10001096-1694683800-1694689200@lemanacademy.com
SUMMARY:PTO Board Meeting CONFERENCE ROOM
DESCRIPTION:
URL:https://lemanacademy.com/event/pto-board-meeting-conference-room/
LOCATION:Conference Room
CATEGORIES:Parker-Stroh (K-8)
END:VEVENT
END:VCALENDAR