BEGIN:VCALENDAR
VERSION:2.0
PRODID:-//Leman Academy of Excellence - ECPv6.15.20//NONSGML v1.0//EN
CALSCALE:GREGORIAN
METHOD:PUBLISH
X-ORIGINAL-URL:https://lemanacademy.com
X-WR-CALDESC:Events for Leman Academy of Excellence
REFRESH-INTERVAL;VALUE=DURATION:PT1H
X-Robots-Tag:noindex
X-PUBLISHED-TTL:PT1H
BEGIN:VTIMEZONE
TZID:America/Phoenix
BEGIN:STANDARD
TZOFFSETFROM:-0700
TZOFFSETTO:-0700
TZNAME:MST
DTSTART:20240101T000000
END:STANDARD
END:VTIMEZONE
BEGIN:VEVENT
DTSTART;VALUE=DATE:20260226
DTEND;VALUE=DATE:20260227
DTSTAMP:20260422T213617
CREATED:20250805T192729Z
LAST-MODIFIED:20260422T090946Z
UID:10008683-1772064000-1772150399@lemanacademy.com
SUMMARY:Early Release Day - 1 hour earlier
DESCRIPTION:
URL:https://lemanacademy.com/event/early-release-day-1-hour-earlier-12/
LOCATION:Leman Academy of Excellence-Sierra Vista\, 1000 E Wilcox Dr\, Sierra Vista\, AZ\, 85635
CATEGORIES:Sierra Vista (K-8)
END:VEVENT
BEGIN:VEVENT
DTSTART;VALUE=DATE:20260219
DTEND;VALUE=DATE:20260220
DTSTAMP:20260422T213617
CREATED:20250805T192721Z
LAST-MODIFIED:20260422T090945Z
UID:10008682-1771459200-1771545599@lemanacademy.com
SUMMARY:Early Release Day - 1 hour earlier
DESCRIPTION:
URL:https://lemanacademy.com/event/early-release-day-1-hour-earlier-11/
LOCATION:Leman Academy of Excellence-Sierra Vista\, 1000 E Wilcox Dr\, Sierra Vista\, AZ\, 85635
CATEGORIES:Sierra Vista (K-8)
END:VEVENT
BEGIN:VEVENT
DTSTART;VALUE=DATE:20260129
DTEND;VALUE=DATE:20260130
DTSTAMP:20260422T213617
CREATED:20250805T192720Z
LAST-MODIFIED:20260422T090945Z
UID:10008678-1769644800-1769731199@lemanacademy.com
SUMMARY:Early Release Day - 1 hour earlier
DESCRIPTION:
URL:https://lemanacademy.com/event/early-release-day-1-hour-earlier-10/
LOCATION:Leman Academy of Excellence-Sierra Vista\, 1000 E Wilcox Dr\, Sierra Vista\, AZ\, 85635
CATEGORIES:Sierra Vista (K-8)
END:VEVENT
BEGIN:VEVENT
DTSTART;VALUE=DATE:20260122
DTEND;VALUE=DATE:20260123
DTSTAMP:20260422T213617
CREATED:20250805T192708Z
LAST-MODIFIED:20260422T090939Z
UID:10008677-1769040000-1769126399@lemanacademy.com
SUMMARY:Early Release Day - 1 hour earlier
DESCRIPTION:
URL:https://lemanacademy.com/event/early-release-day-1-hour-earlier-9/
LOCATION:Leman Academy of Excellence-Sierra Vista\, 1000 E Wilcox Dr\, Sierra Vista\, AZ\, 85635
CATEGORIES:Sierra Vista (K-8)
END:VEVENT
BEGIN:VEVENT
DTSTART;VALUE=DATE:20260115
DTEND;VALUE=DATE:20260116
DTSTAMP:20260422T213617
CREATED:20250805T192708Z
LAST-MODIFIED:20260422T090939Z
UID:10008675-1768435200-1768521599@lemanacademy.com
SUMMARY:Early Release Day - 1 hour earlier
DESCRIPTION:
URL:https://lemanacademy.com/event/early-release-day-1-hour-earlier-8/
LOCATION:Leman Academy of Excellence-Sierra Vista\, 1000 E Wilcox Dr\, Sierra Vista\, AZ\, 85635
CATEGORIES:Sierra Vista (K-8)
END:VEVENT
BEGIN:VEVENT
DTSTART;VALUE=DATE:20260108
DTEND;VALUE=DATE:20260109
DTSTAMP:20260422T213617
CREATED:20250805T192708Z
LAST-MODIFIED:20260422T090938Z
UID:10008674-1767830400-1767916799@lemanacademy.com
SUMMARY:Early Release Day - 1 hour earlier
DESCRIPTION:
URL:https://lemanacademy.com/event/early-release-day-1-hour-earlier-7/
LOCATION:Leman Academy of Excellence-Sierra Vista\, 1000 E Wilcox Dr\, Sierra Vista\, AZ\, 85635
CATEGORIES:Sierra Vista (K-8)
END:VEVENT
BEGIN:VEVENT
DTSTART;VALUE=DATE:20251218
DTEND;VALUE=DATE:20251219
DTSTAMP:20260422T213617
CREATED:20250805T192705Z
LAST-MODIFIED:20260422T090934Z
UID:10008671-1766016000-1766102399@lemanacademy.com
SUMMARY:Early Release Day - 1 hour earlier
DESCRIPTION:
URL:https://lemanacademy.com/event/early-release-day-1-hour-earlier-6/
LOCATION:Leman Academy of Excellence-Sierra Vista\, 1000 E Wilcox Dr\, Sierra Vista\, AZ\, 85635
CATEGORIES:Sierra Vista (K-8)
END:VEVENT
BEGIN:VEVENT
DTSTART;VALUE=DATE:20251211
DTEND;VALUE=DATE:20251212
DTSTAMP:20260422T213617
CREATED:20250805T192704Z
LAST-MODIFIED:20260422T090934Z
UID:10008669-1765411200-1765497599@lemanacademy.com
SUMMARY:Early Release Day - 1 hour earlier
DESCRIPTION:
URL:https://lemanacademy.com/event/early-release-day-1-hour-earlier-5/
LOCATION:Leman Academy of Excellence-Sierra Vista\, 1000 E Wilcox Dr\, Sierra Vista\, AZ\, 85635
CATEGORIES:Sierra Vista (K-8)
END:VEVENT
BEGIN:VEVENT
DTSTART;VALUE=DATE:20251204
DTEND;VALUE=DATE:20251205
DTSTAMP:20260422T213617
CREATED:20250805T192704Z
LAST-MODIFIED:20260422T090934Z
UID:10008668-1764806400-1764892799@lemanacademy.com
SUMMARY:Early Release Day - 1 hour earlier
DESCRIPTION:
URL:https://lemanacademy.com/event/early-release-day-1-hour-earlier-4/
LOCATION:Leman Academy of Excellence-Sierra Vista\, 1000 E Wilcox Dr\, Sierra Vista\, AZ\, 85635
CATEGORIES:Sierra Vista (K-8)
END:VEVENT
BEGIN:VEVENT
DTSTART;VALUE=DATE:20251120
DTEND;VALUE=DATE:20251121
DTSTAMP:20260422T213617
CREATED:20250805T192703Z
LAST-MODIFIED:20260422T090929Z
UID:10008666-1763596800-1763683199@lemanacademy.com
SUMMARY:Early Release Day - 1 hour earlier
DESCRIPTION:
URL:https://lemanacademy.com/event/early-release-day-1-hour-earlier-3/
LOCATION:Leman Academy of Excellence-Sierra Vista\, 1000 E Wilcox Dr\, Sierra Vista\, AZ\, 85635
CATEGORIES:Sierra Vista (K-8)
END:VEVENT
BEGIN:VEVENT
DTSTART;VALUE=DATE:20251113
DTEND;VALUE=DATE:20251114
DTSTAMP:20260422T213617
CREATED:20250805T192703Z
LAST-MODIFIED:20260422T090929Z
UID:10008665-1762992000-1763078399@lemanacademy.com
SUMMARY:Early Release Day - 1 hour earlier
DESCRIPTION:
URL:https://lemanacademy.com/event/early-release-day-1-hour-earlier-2-12/
LOCATION:Leman Academy of Excellence-Sierra Vista\, 1000 E Wilcox Dr\, Sierra Vista\, AZ\, 85635
CATEGORIES:Sierra Vista (K-8)
END:VEVENT
BEGIN:VEVENT
DTSTART;VALUE=DATE:20251106
DTEND;VALUE=DATE:20251107
DTSTAMP:20260422T213617
CREATED:20250805T191218Z
LAST-MODIFIED:20260422T090846Z
UID:10008662-1762387200-1762473599@lemanacademy.com
SUMMARY:Early Release Day - 1 hour earlier
DESCRIPTION:
URL:https://lemanacademy.com/event/early-release-day-1-hour-earlier-2-11/
LOCATION:Leman Academy of Excellence-Sierra Vista\, 1000 E Wilcox Dr\, Sierra Vista\, AZ\, 85635
CATEGORIES:Sierra Vista (K-8)
END:VEVENT
BEGIN:VEVENT
DTSTART;VALUE=DATE:20251030
DTEND;VALUE=DATE:20251031
DTSTAMP:20260422T213617
CREATED:20250805T191218Z
LAST-MODIFIED:20260422T090846Z
UID:10008661-1761782400-1761868799@lemanacademy.com
SUMMARY:Early Release Day - 1 hour earlier
DESCRIPTION:
URL:https://lemanacademy.com/event/early-release-day-1-hour-earlier-2-10/
LOCATION:Leman Academy of Excellence-Sierra Vista\, 1000 E Wilcox Dr\, Sierra Vista\, AZ\, 85635
CATEGORIES:Sierra Vista (K-8)
END:VEVENT
BEGIN:VEVENT
DTSTART;VALUE=DATE:20251023
DTEND;VALUE=DATE:20251024
DTSTAMP:20260422T213617
CREATED:20250805T191218Z
LAST-MODIFIED:20260422T090846Z
UID:10008660-1761177600-1761263999@lemanacademy.com
SUMMARY:Early Release Day - 1 hour earlier
DESCRIPTION:
URL:https://lemanacademy.com/event/early-release-day-1-hour-earlier-2-9/
LOCATION:Leman Academy of Excellence-Sierra Vista\, 1000 E Wilcox Dr\, Sierra Vista\, AZ\, 85635
CATEGORIES:Sierra Vista (K-8)
END:VEVENT
BEGIN:VEVENT
DTSTART;VALUE=DATE:20251016
DTEND;VALUE=DATE:20251017
DTSTAMP:20260422T213617
CREATED:20250805T191218Z
LAST-MODIFIED:20260422T090846Z
UID:10008659-1760572800-1760659199@lemanacademy.com
SUMMARY:Early Release Day - 1 hour earlier
DESCRIPTION:
URL:https://lemanacademy.com/event/early-release-day-1-hour-earlier-2-8/
LOCATION:Leman Academy of Excellence-Sierra Vista\, 1000 E Wilcox Dr\, Sierra Vista\, AZ\, 85635
CATEGORIES:Sierra Vista (K-8)
END:VEVENT
BEGIN:VEVENT
DTSTART;VALUE=DATE:20251002
DTEND;VALUE=DATE:20251003
DTSTAMP:20260422T213617
CREATED:20250805T191018Z
LAST-MODIFIED:20260422T090844Z
UID:10008655-1759363200-1759449599@lemanacademy.com
SUMMARY:Early Release Day - 1 hour earlier
DESCRIPTION:
URL:https://lemanacademy.com/event/early-release-day-1-hour-earlier-2-7/
LOCATION:Leman Academy of Excellence-Sierra Vista\, 1000 E Wilcox Dr\, Sierra Vista\, AZ\, 85635
CATEGORIES:Sierra Vista (K-8)
END:VEVENT
BEGIN:VEVENT
DTSTART;VALUE=DATE:20250925
DTEND;VALUE=DATE:20250926
DTSTAMP:20260422T213617
CREATED:20250805T191018Z
LAST-MODIFIED:20260422T090844Z
UID:10008654-1758758400-1758844799@lemanacademy.com
SUMMARY:Early Release Day - 1 hour earlier
DESCRIPTION:
URL:https://lemanacademy.com/event/early-release-day-1-hour-earlier-2-6/
LOCATION:Leman Academy of Excellence-Sierra Vista\, 1000 E Wilcox Dr\, Sierra Vista\, AZ\, 85635
CATEGORIES:Sierra Vista (K-8)
END:VEVENT
BEGIN:VEVENT
DTSTART;VALUE=DATE:20250918
DTEND;VALUE=DATE:20250919
DTSTAMP:20260422T213617
CREATED:20250805T191017Z
LAST-MODIFIED:20260422T090844Z
UID:10008653-1758153600-1758239999@lemanacademy.com
SUMMARY:Early Release Day - 1 hour earlier
DESCRIPTION:
URL:https://lemanacademy.com/event/early-release-day-1-hour-earlier-2-5/
LOCATION:Leman Academy of Excellence-Sierra Vista\, 1000 E Wilcox Dr\, Sierra Vista\, AZ\, 85635
CATEGORIES:Sierra Vista (K-8)
END:VEVENT
BEGIN:VEVENT
DTSTART;VALUE=DATE:20250904
DTEND;VALUE=DATE:20250905
DTSTAMP:20260422T213617
CREATED:20250805T190905Z
LAST-MODIFIED:20260422T090843Z
UID:10008650-1756944000-1757030399@lemanacademy.com
SUMMARY:Early Release Day - 1 hour earlier
DESCRIPTION:
URL:https://lemanacademy.com/event/early-release-day-1-hour-earlier-2-4/
LOCATION:Leman Academy of Excellence-Sierra Vista\, 1000 E Wilcox Dr\, Sierra Vista\, AZ\, 85635
CATEGORIES:Sierra Vista (K-8)
END:VEVENT
BEGIN:VEVENT
DTSTART;VALUE=DATE:20250821
DTEND;VALUE=DATE:20250822
DTSTAMP:20260422T213617
CREATED:20250805T190615Z
LAST-MODIFIED:20260422T090800Z
UID:10008647-1755734400-1755820799@lemanacademy.com
SUMMARY:Early Release Day - 1 hour earlier
DESCRIPTION:
URL:https://lemanacademy.com/event/early-release-day-1-hour-earlier-2-3/
LOCATION:Leman Academy of Excellence-Sierra Vista\, 1000 E Wilcox Dr\, Sierra Vista\, AZ\, 85635
CATEGORIES:Sierra Vista (K-8)
END:VEVENT
BEGIN:VEVENT
DTSTART;VALUE=DATE:20250814
DTEND;VALUE=DATE:20250815
DTSTAMP:20260422T213617
CREATED:20250805T190615Z
LAST-MODIFIED:20260422T090759Z
UID:10008646-1755129600-1755215999@lemanacademy.com
SUMMARY:Early Release Day - 1 hour earlier
DESCRIPTION:
URL:https://lemanacademy.com/event/early-release-day-1-hour-earlier-2-2/
LOCATION:Leman Academy of Excellence-Sierra Vista\, 1000 E Wilcox Dr\, Sierra Vista\, AZ\, 85635
CATEGORIES:Sierra Vista (K-8)
END:VEVENT
BEGIN:VEVENT
DTSTART;VALUE=DATE:20250807
DTEND;VALUE=DATE:20250808
DTSTAMP:20260422T213617
CREATED:20250805T190515Z
LAST-MODIFIED:20260422T090758Z
UID:10008637-1754524800-1754611199@lemanacademy.com
SUMMARY:Early Release Day - 1 hour earlier
DESCRIPTION:
URL:https://lemanacademy.com/event/early-release-day-1-hour-earlier/
LOCATION:Leman Academy of Excellence-Sierra Vista\, 1000 E Wilcox Dr\, Sierra Vista\, AZ\, 85635
CATEGORIES:Sierra Vista (K-8)
END:VEVENT
END:VCALENDAR