BEGIN:VCALENDAR
VERSION:2.0
PRODID:-//Leman Academy of Excellence - ECPv6.15.20//NONSGML v1.0//EN
CALSCALE:GREGORIAN
METHOD:PUBLISH
X-ORIGINAL-URL:https://lemanacademy.com
X-WR-CALDESC:Events for Leman Academy of Excellence
REFRESH-INTERVAL;VALUE=DURATION:PT1H
X-Robots-Tag:noindex
X-PUBLISHED-TTL:PT1H
BEGIN:VTIMEZONE
TZID:America/Denver
BEGIN:DAYLIGHT
TZOFFSETFROM:-0700
TZOFFSETTO:-0600
TZNAME:MDT
DTSTART:20220313T090000
END:DAYLIGHT
BEGIN:STANDARD
TZOFFSETFROM:-0600
TZOFFSETTO:-0700
TZNAME:MST
DTSTART:20221106T080000
END:STANDARD
BEGIN:DAYLIGHT
TZOFFSETFROM:-0700
TZOFFSETTO:-0600
TZNAME:MDT
DTSTART:20230312T090000
END:DAYLIGHT
BEGIN:STANDARD
TZOFFSETFROM:-0600
TZOFFSETTO:-0700
TZNAME:MST
DTSTART:20231105T080000
END:STANDARD
BEGIN:DAYLIGHT
TZOFFSETFROM:-0700
TZOFFSETTO:-0600
TZNAME:MDT
DTSTART:20240310T090000
END:DAYLIGHT
BEGIN:STANDARD
TZOFFSETFROM:-0600
TZOFFSETTO:-0700
TZNAME:MST
DTSTART:20241103T080000
END:STANDARD
END:VTIMEZONE
BEGIN:VEVENT
DTSTART;TZID=America/Denver:20230819T183000
DTEND;TZID=America/Denver:20230819T203000
DTSTAMP:20260420T071936
CREATED:20230809T194402Z
LAST-MODIFIED:20240617T100447Z
UID:10000243-1692469800-1692477000@lemanacademy.com
SUMMARY:Middle School Pool Party
DESCRIPTION:Middle School House Captains are sponsoring this pool party for Middle School scholars only.  See Flyer for details
URL:https://lemanacademy.com/event/middle-school-pool-party/
LOCATION:O’Brien Park\, 10795 Victorian Dr\, Parker\, CO\, United States
CATEGORIES:Parker-Stroh (K-8)
GEO:39.520261;-104.761611
X-APPLE-STRUCTURED-LOCATION;VALUE=URI;X-ADDRESS=O’Brien Park 10795 Victorian Dr Parker CO United States;X-APPLE-RADIUS=500;X-TITLE=10795 Victorian Dr:geo:-104.761611,39.520261
END:VEVENT
END:VCALENDAR