BEGIN:VCALENDAR
VERSION:2.0
PRODID:-//Leman Academy of Excellence - ECPv6.15.20//NONSGML v1.0//EN
CALSCALE:GREGORIAN
METHOD:PUBLISH
X-ORIGINAL-URL:https://lemanacademy.com
X-WR-CALDESC:Events for Leman Academy of Excellence
REFRESH-INTERVAL;VALUE=DURATION:PT1H
X-Robots-Tag:noindex
X-PUBLISHED-TTL:PT1H
BEGIN:VTIMEZONE
TZID:America/Phoenix
BEGIN:STANDARD
TZOFFSETFROM:-0700
TZOFFSETTO:-0700
TZNAME:MST
DTSTART:20230101T000000
END:STANDARD
END:VTIMEZONE
BEGIN:VEVENT
DTSTART;TZID=America/Phoenix:20260108T153000
DTEND;TZID=America/Phoenix:20260108T170000
DTSTAMP:20260422T141651
CREATED:20251125T232544Z
LAST-MODIFIED:20260422T200056Z
UID:10009369-1767886200-1767891600@lemanacademy.com
SUMMARY:Softball vs. The Gregory School
DESCRIPTION:Arrive by 3:30pm for Warm Ups
URL:https://lemanacademy.com/event/softball-vs-the-gregory-school/
LOCATION:Riverfront Park\, 2 W Oro Valley Dr\, Tucson\, AZ\, United States
CATEGORIES:Oro Valley (K-8)
GEO:32.394197;-110.969438
X-APPLE-STRUCTURED-LOCATION;VALUE=URI;X-ADDRESS=Riverfront Park 2 W Oro Valley Dr Tucson AZ United States;X-APPLE-RADIUS=500;X-TITLE=2 W Oro Valley Dr:geo:-110.969438,32.394197
END:VEVENT
BEGIN:VEVENT
DTSTART;TZID=America/Phoenix:20251215T153000
DTEND;TZID=America/Phoenix:20251215T170000
DTSTAMP:20260422T141651
CREATED:20251125T232521Z
LAST-MODIFIED:20260422T200020Z
UID:10009367-1765812600-1765818000@lemanacademy.com
SUMMARY:Softball vs. Emily Gray
DESCRIPTION:Arrive by 3:30pm for Warm Ups
URL:https://lemanacademy.com/event/softball-vs-emily-gray/
LOCATION:Riverfront Park\, 2 W Oro Valley Dr\, Tucson\, AZ\, United States
CATEGORIES:Oro Valley (K-8)
GEO:32.394197;-110.969438
X-APPLE-STRUCTURED-LOCATION;VALUE=URI;X-ADDRESS=Riverfront Park 2 W Oro Valley Dr Tucson AZ United States;X-APPLE-RADIUS=500;X-TITLE=2 W Oro Valley Dr:geo:-110.969438,32.394197
END:VEVENT
BEGIN:VEVENT
DTSTART;TZID=America/Phoenix:20251208T153000
DTEND;TZID=America/Phoenix:20251208T170000
DTSTAMP:20260422T141651
CREATED:20251125T232448Z
LAST-MODIFIED:20260422T195924Z
UID:10009362-1765207800-1765213200@lemanacademy.com
SUMMARY:Softball vs. Pusch Ridge
DESCRIPTION:Arrive by 3:30pm for Warm Ups
URL:https://lemanacademy.com/event/softball-vs-pusch-ridge/
LOCATION:Riverfront Park\, 2 W Oro Valley Dr\, Tucson\, AZ\, United States
CATEGORIES:Oro Valley (K-8)
GEO:32.394197;-110.969438
X-APPLE-STRUCTURED-LOCATION;VALUE=URI;X-ADDRESS=Riverfront Park 2 W Oro Valley Dr Tucson AZ United States;X-APPLE-RADIUS=500;X-TITLE=2 W Oro Valley Dr:geo:-110.969438,32.394197
END:VEVENT
BEGIN:VEVENT
DTSTART;TZID=America/Phoenix:20250116T160000
DTEND;TZID=America/Phoenix:20250116T170000
DTSTAMP:20260422T141651
CREATED:20241106T155526Z
LAST-MODIFIED:20260219T073730Z
UID:10006101-1737043200-1737046800@lemanacademy.com
SUMMARY:Softball Home Game vs. Casas Christian
DESCRIPTION:
URL:https://lemanacademy.com/event/softball-home-game-vs-casas-christian/
LOCATION:Riverfront Park\, 2 W Oro Valley Dr\, Tucson\, AZ\, United States
CATEGORIES:Oro Valley (K-8)
GEO:32.394197;-110.969438
X-APPLE-STRUCTURED-LOCATION;VALUE=URI;X-ADDRESS=Riverfront Park 2 W Oro Valley Dr Tucson AZ United States;X-APPLE-RADIUS=500;X-TITLE=2 W Oro Valley Dr:geo:-110.969438,32.394197
END:VEVENT
BEGIN:VEVENT
DTSTART;TZID=America/Phoenix:20250114T160000
DTEND;TZID=America/Phoenix:20250114T170000
DTSTAMP:20260422T141651
CREATED:20241106T155524Z
LAST-MODIFIED:20260219T073728Z
UID:10006100-1736870400-1736874000@lemanacademy.com
SUMMARY:Softball Home Game vs. Tucson Country Day
DESCRIPTION:
URL:https://lemanacademy.com/event/softball-home-game-vs-tucson-country-day/
LOCATION:Riverfront Park\, 2 W Oro Valley Dr\, Tucson\, AZ\, United States
CATEGORIES:Oro Valley (K-8)
GEO:32.394197;-110.969438
X-APPLE-STRUCTURED-LOCATION;VALUE=URI;X-ADDRESS=Riverfront Park 2 W Oro Valley Dr Tucson AZ United States;X-APPLE-RADIUS=500;X-TITLE=2 W Oro Valley Dr:geo:-110.969438,32.394197
END:VEVENT
BEGIN:VEVENT
DTSTART;TZID=America/Phoenix:20241212T160000
DTEND;TZID=America/Phoenix:20241212T170000
DTSTAMP:20260422T141651
CREATED:20241113T235052Z
LAST-MODIFIED:20260331T235629Z
UID:10006190-1734019200-1734022800@lemanacademy.com
SUMMARY:Softball- Leman Oro Valley @ Leman East
DESCRIPTION: at 4 pm. Game at Riverfront Park 551 W. Lambert Rd. Scholars can be excused at 2:30 pm.
URL:https://lemanacademy.com/event/softball-leman-oro-valley-leman-east-at-4-pm-game-at-riverfront-park-551-w-lambert-rd-scholars-can-be-excused-at-230-pm/
LOCATION:Riverfront Park\, 2 W Oro Valley Dr\, Tucson\, AZ\, United States
CATEGORIES:East Tucson (K-8)
GEO:32.394197;-110.969438
X-APPLE-STRUCTURED-LOCATION;VALUE=URI;X-ADDRESS=Riverfront Park 2 W Oro Valley Dr Tucson AZ United States;X-APPLE-RADIUS=500;X-TITLE=2 W Oro Valley Dr:geo:-110.969438,32.394197
END:VEVENT
BEGIN:VEVENT
DTSTART;TZID=America/Phoenix:20241212T160000
DTEND;TZID=America/Phoenix:20241212T170000
DTSTAMP:20260422T141651
CREATED:20241106T155431Z
LAST-MODIFIED:20260219T073452Z
UID:10006087-1734019200-1734022800@lemanacademy.com
SUMMARY:Softball Home Game vs. Leman East
DESCRIPTION:
URL:https://lemanacademy.com/event/softball-home-game-vs-leman-east/
LOCATION:Riverfront Park\, 2 W Oro Valley Dr\, Tucson\, AZ\, United States
CATEGORIES:Oro Valley (K-8)
GEO:32.394197;-110.969438
X-APPLE-STRUCTURED-LOCATION;VALUE=URI;X-ADDRESS=Riverfront Park 2 W Oro Valley Dr Tucson AZ United States;X-APPLE-RADIUS=500;X-TITLE=2 W Oro Valley Dr:geo:-110.969438,32.394197
END:VEVENT
BEGIN:VEVENT
DTSTART;TZID=America/Phoenix:20241211T160000
DTEND;TZID=America/Phoenix:20241211T170000
DTSTAMP:20260422T141651
CREATED:20241106T155426Z
LAST-MODIFIED:20241211T170551Z
UID:10006085-1733932800-1733936400@lemanacademy.com
SUMMARY:Softball Away Game @ Basis OV
DESCRIPTION:
URL:https://lemanacademy.com/event/softball-away-game-basis-ov/
LOCATION:Riverfront Park\, 2 W Oro Valley Dr\, Tucson\, AZ\, United States
CATEGORIES:Oro Valley (K-8)
GEO:32.394197;-110.969438
X-APPLE-STRUCTURED-LOCATION;VALUE=URI;X-ADDRESS=Riverfront Park 2 W Oro Valley Dr Tucson AZ United States;X-APPLE-RADIUS=500;X-TITLE=2 W Oro Valley Dr:geo:-110.969438,32.394197
END:VEVENT
BEGIN:VEVENT
DTSTART;TZID=America/Phoenix:20241203T160000
DTEND;TZID=America/Phoenix:20241203T170000
DTSTAMP:20260422T141651
CREATED:20241106T155320Z
LAST-MODIFIED:20260219T073401Z
UID:10006079-1733241600-1733245200@lemanacademy.com
SUMMARY:Softball Home Game vs. Leman Marana
DESCRIPTION:
URL:https://lemanacademy.com/event/softball-home-game-vs-leman-marana/
LOCATION:Riverfront Park\, 2 W Oro Valley Dr\, Tucson\, AZ\, United States
CATEGORIES:Oro Valley (K-8)
GEO:32.394197;-110.969438
X-APPLE-STRUCTURED-LOCATION;VALUE=URI;X-ADDRESS=Riverfront Park 2 W Oro Valley Dr Tucson AZ United States;X-APPLE-RADIUS=500;X-TITLE=2 W Oro Valley Dr:geo:-110.969438,32.394197
END:VEVENT
END:VCALENDAR