BEGIN:VCALENDAR
VERSION:2.0
PRODID:-//Leman Academy of Excellence - ECPv6.15.20//NONSGML v1.0//EN
CALSCALE:GREGORIAN
METHOD:PUBLISH
X-WR-CALNAME:Leman Academy of Excellence
X-ORIGINAL-URL:https://lemanacademy.com
X-WR-CALDESC:Events for Leman Academy of Excellence
REFRESH-INTERVAL;VALUE=DURATION:PT1H
X-Robots-Tag:noindex
X-PUBLISHED-TTL:PT1H
BEGIN:VTIMEZONE
TZID:America/Phoenix
BEGIN:STANDARD
TZOFFSETFROM:-0700
TZOFFSETTO:-0700
TZNAME:MST
DTSTART:20240101T000000
END:STANDARD
END:VTIMEZONE
BEGIN:VTIMEZONE
TZID:America/Denver
BEGIN:DAYLIGHT
TZOFFSETFROM:-0700
TZOFFSETTO:-0600
TZNAME:MDT
DTSTART:20220313T090000
END:DAYLIGHT
BEGIN:STANDARD
TZOFFSETFROM:-0600
TZOFFSETTO:-0700
TZNAME:MST
DTSTART:20221106T080000
END:STANDARD
BEGIN:DAYLIGHT
TZOFFSETFROM:-0700
TZOFFSETTO:-0600
TZNAME:MDT
DTSTART:20230312T090000
END:DAYLIGHT
BEGIN:STANDARD
TZOFFSETFROM:-0600
TZOFFSETTO:-0700
TZNAME:MST
DTSTART:20231105T080000
END:STANDARD
BEGIN:DAYLIGHT
TZOFFSETFROM:-0700
TZOFFSETTO:-0600
TZNAME:MDT
DTSTART:20240310T090000
END:DAYLIGHT
BEGIN:STANDARD
TZOFFSETFROM:-0600
TZOFFSETTO:-0700
TZNAME:MST
DTSTART:20241103T080000
END:STANDARD
END:VTIMEZONE
BEGIN:VEVENT
DTSTART;TZID=America/Phoenix:20251215T151000
DTEND;TZID=America/Phoenix:20251215T161000
DTSTAMP:20260422T035007
CREATED:20250817T203927Z
LAST-MODIFIED:20260421T194455Z
UID:10008935-1765811400-1765815000@lemanacademy.com
SUMMARY:Taekwondo After School Club
DESCRIPTION:Meet on Stage
URL:https://lemanacademy.com/event/taekwondo-after-school-club-28/
LOCATION:Stage
CATEGORIES:Oro Valley (K-8)
END:VEVENT
BEGIN:VEVENT
DTSTART;TZID=America/Phoenix:20251208T151000
DTEND;TZID=America/Phoenix:20251208T161000
DTSTAMP:20260422T035007
CREATED:20250817T203919Z
LAST-MODIFIED:20260421T194408Z
UID:10008926-1765206600-1765210200@lemanacademy.com
SUMMARY:Taekwondo After School Club
DESCRIPTION:Meet on Stage
URL:https://lemanacademy.com/event/taekwondo-after-school-club-26/
LOCATION:Stage
CATEGORIES:Oro Valley (K-8)
END:VEVENT
BEGIN:VEVENT
DTSTART;TZID=America/Phoenix:20251201T151000
DTEND;TZID=America/Phoenix:20251201T161000
DTSTAMP:20260422T035007
CREATED:20250817T203854Z
LAST-MODIFIED:20260421T194349Z
UID:10008917-1764601800-1764605400@lemanacademy.com
SUMMARY:Taekwondo After School Club
DESCRIPTION:Meet on Stage
URL:https://lemanacademy.com/event/taekwondo-after-school-club-24/
LOCATION:Stage
CATEGORIES:Oro Valley (K-8)
END:VEVENT
BEGIN:VEVENT
DTSTART;TZID=America/Phoenix:20251117T151000
DTEND;TZID=America/Phoenix:20251117T161000
DTSTAMP:20260422T035007
CREATED:20250817T203828Z
LAST-MODIFIED:20260421T194337Z
UID:10008907-1763392200-1763395800@lemanacademy.com
SUMMARY:Taekwondo After School Club
DESCRIPTION:Meet on Stage
URL:https://lemanacademy.com/event/taekwondo-after-school-club-22/
LOCATION:Stage
CATEGORIES:Oro Valley (K-8)
END:VEVENT
BEGIN:VEVENT
DTSTART;TZID=America/Phoenix:20251103T151000
DTEND;TZID=America/Phoenix:20251103T161000
DTSTAMP:20260422T035007
CREATED:20250817T203740Z
LAST-MODIFIED:20260421T194254Z
UID:10008890-1762182600-1762186200@lemanacademy.com
SUMMARY:Taekwondo After School Club
DESCRIPTION:Meet on Stage
URL:https://lemanacademy.com/event/taekwondo-after-school-club-19/
LOCATION:Stage
CATEGORIES:Oro Valley (K-8)
END:VEVENT
BEGIN:VEVENT
DTSTART;TZID=America/Phoenix:20251027T151000
DTEND;TZID=America/Phoenix:20251027T161000
DTSTAMP:20260422T035007
CREATED:20250817T203725Z
LAST-MODIFIED:20260421T194245Z
UID:10008882-1761577800-1761581400@lemanacademy.com
SUMMARY:Taekwondo After School Club
DESCRIPTION:Meet on Stage
URL:https://lemanacademy.com/event/taekwondo-after-school-club-17/
LOCATION:Stage
CATEGORIES:Oro Valley (K-8)
END:VEVENT
BEGIN:VEVENT
DTSTART;TZID=America/Phoenix:20251020T151000
DTEND;TZID=America/Phoenix:20251020T161000
DTSTAMP:20260422T035007
CREATED:20250817T203639Z
LAST-MODIFIED:20260421T194210Z
UID:10008870-1760973000-1760976600@lemanacademy.com
SUMMARY:Taekwondo After School Club
DESCRIPTION:Meet on Stage
URL:https://lemanacademy.com/event/taekwondo-after-school-club-15/
LOCATION:Stage
CATEGORIES:Oro Valley (K-8)
END:VEVENT
BEGIN:VEVENT
DTSTART;TZID=America/Phoenix:20251013T151000
DTEND;TZID=America/Phoenix:20251013T161000
DTSTAMP:20260422T035007
CREATED:20250817T203622Z
LAST-MODIFIED:20260421T194123Z
UID:10008862-1760368200-1760371800@lemanacademy.com
SUMMARY:Taekwondo After School Club
DESCRIPTION:Meet on Stage
URL:https://lemanacademy.com/event/taekwondo-after-school-club-13/
LOCATION:Stage
CATEGORIES:Oro Valley (K-8)
END:VEVENT
BEGIN:VEVENT
DTSTART;TZID=America/Phoenix:20250929T151000
DTEND;TZID=America/Phoenix:20250929T161000
DTSTAMP:20260422T035007
CREATED:20250817T203534Z
LAST-MODIFIED:20260421T194036Z
UID:10008853-1759158600-1759162200@lemanacademy.com
SUMMARY:Taekwondo After School Club
DESCRIPTION:Meet on Stage
URL:https://lemanacademy.com/event/taekwondo-after-school-club-11/
LOCATION:Stage
CATEGORIES:Oro Valley (K-8)
END:VEVENT
BEGIN:VEVENT
DTSTART;TZID=America/Phoenix:20250922T151000
DTEND;TZID=America/Phoenix:20250922T161000
DTSTAMP:20260422T035007
CREATED:20250817T203519Z
LAST-MODIFIED:20260421T194013Z
UID:10008844-1758553800-1758557400@lemanacademy.com
SUMMARY:Taekwondo After School Club
DESCRIPTION:Meet on Stage
URL:https://lemanacademy.com/event/taekwondo-after-school-club-9/
LOCATION:Stage
CATEGORIES:Oro Valley (K-8)
END:VEVENT
BEGIN:VEVENT
DTSTART;TZID=America/Phoenix:20250915T151000
DTEND;TZID=America/Phoenix:20250915T161000
DTSTAMP:20260422T035007
CREATED:20250817T203449Z
LAST-MODIFIED:20260421T193944Z
UID:10008834-1757949000-1757952600@lemanacademy.com
SUMMARY:Taekwondo After School Club
DESCRIPTION:Meet on Stage
URL:https://lemanacademy.com/event/taekwondo-after-school-club-7/
LOCATION:Stage
CATEGORIES:Oro Valley (K-8)
END:VEVENT
BEGIN:VEVENT
DTSTART;TZID=America/Phoenix:20250908T151000
DTEND;TZID=America/Phoenix:20250908T161000
DTSTAMP:20260422T035007
CREATED:20250817T203444Z
LAST-MODIFIED:20260421T193908Z
UID:10008828-1757344200-1757347800@lemanacademy.com
SUMMARY:Taekwondo After School Club
DESCRIPTION:Meet on Stage
URL:https://lemanacademy.com/event/taekwondo-after-school-club-6/
LOCATION:Stage
CATEGORIES:Oro Valley (K-8)
END:VEVENT
BEGIN:VEVENT
DTSTART;TZID=America/Phoenix:20250825T151000
DTEND;TZID=America/Phoenix:20250825T161000
DTSTAMP:20260422T035007
CREATED:20250817T203419Z
LAST-MODIFIED:20260421T193822Z
UID:10008814-1756134600-1756138200@lemanacademy.com
SUMMARY:Taekwondo After School Club
DESCRIPTION:Meet on Stage
URL:https://lemanacademy.com/event/taekwondo-after-school-club-4/
LOCATION:Stage
CATEGORIES:Oro Valley (K-8)
END:VEVENT
BEGIN:VEVENT
DTSTART;TZID=America/Phoenix:20250818T151000
DTEND;TZID=America/Phoenix:20250818T161000
DTSTAMP:20260422T035007
CREATED:20250817T203402Z
LAST-MODIFIED:20260421T193757Z
UID:10008807-1755529800-1755533400@lemanacademy.com
SUMMARY:Taekwondo After School Club
DESCRIPTION:Meet on Stage
URL:https://lemanacademy.com/event/taekwondo-after-school-club-2/
LOCATION:Stage
CATEGORIES:Oro Valley (K-8)
END:VEVENT
BEGIN:VEVENT
DTSTART;TZID=America/Denver:20230912T143000
DTEND;TZID=America/Denver:20230912T153000
DTSTAMP:20260422T035007
CREATED:20230906T231439Z
LAST-MODIFIED:20240617T101052Z
UID:10001210-1694529000-1694532600@lemanacademy.com
SUMMARY:Sports Pictures
DESCRIPTION:Sports pictures for this fall will be during study hall: \n\n\n\n\n\n\nDate of Picture\nSport\n\n\nSept. 12th at  2:30 pm\n\n                                                                                                                                                     Boy’s Soccer\n\n\nGirl’s Volleyball\n\n\nBoys/Girls Cross Country\n\n\n\nPlease make sure you communicate this to scholars and parents. Scholars will need to dress in their sport uniform and be on the stage at 2:30PM. Coaches will also need to have a picture taken. When the time gets closer\, please arrange coverage for your class if needed so you can step out and supervise your team.\nJoin with Google Meet: https://meet.google.com/dty-rrqm-wyi\nOr dial: (US) +1 562-521-0193 PIN: 288555767#\nLearn more about Meet at: https://support.google.com/a/users/answer/9282720
URL:https://lemanacademy.com/event/sports-pictures/
LOCATION:Stage
END:VEVENT
END:VCALENDAR